BEGIN:VCALENDAR
VERSION:2.0
PRODID:-//Ouray Elks Lodge #492 - ECPv6.15.20//NONSGML v1.0//EN
CALSCALE:GREGORIAN
METHOD:PUBLISH
X-WR-CALNAME:Ouray Elks Lodge #492
X-ORIGINAL-URL:https://ourayelks.org
X-WR-CALDESC:Events for Ouray Elks Lodge #492
REFRESH-INTERVAL;VALUE=DURATION:PT1H
X-Robots-Tag:noindex
X-PUBLISHED-TTL:PT1H
BEGIN:VTIMEZONE
TZID:America/Denver
BEGIN:DAYLIGHT
TZOFFSETFROM:-0700
TZOFFSETTO:-0600
TZNAME:MDT
DTSTART:20240310T090000
END:DAYLIGHT
BEGIN:STANDARD
TZOFFSETFROM:-0600
TZOFFSETTO:-0700
TZNAME:MST
DTSTART:20241103T080000
END:STANDARD
BEGIN:DAYLIGHT
TZOFFSETFROM:-0700
TZOFFSETTO:-0600
TZNAME:MDT
DTSTART:20250309T090000
END:DAYLIGHT
BEGIN:STANDARD
TZOFFSETFROM:-0600
TZOFFSETTO:-0700
TZNAME:MST
DTSTART:20251102T080000
END:STANDARD
BEGIN:DAYLIGHT
TZOFFSETFROM:-0700
TZOFFSETTO:-0600
TZNAME:MDT
DTSTART:20260308T090000
END:DAYLIGHT
BEGIN:STANDARD
TZOFFSETFROM:-0600
TZOFFSETTO:-0700
TZNAME:MST
DTSTART:20261101T080000
END:STANDARD
END:VTIMEZONE
BEGIN:VEVENT
DTSTART;TZID=America/Denver:20251024T180000
DTEND;TZID=America/Denver:20251024T210000
DTSTAMP:20260423T224008
CREATED:20250925T171505Z
LAST-MODIFIED:20250925T172103Z
UID:168-1761328800-1761339600@ourayelks.org
SUMMARY:Chili Cook Off ENF Fundraiser
DESCRIPTION:Please contact Susan or Jill if you want to judge \n  \nFree to Enter \nProceeds go to ENF \n 
URL:https://ourayelks.org/event/chili-cook-off-enf-fundraiser/
LOCATION:Ouray Elks Lodge #492\, 421 Main Street\, Ouray\, CO\, 81427\, United States
CATEGORIES:Food,Fundraiser
ATTACH;FMTTYPE=image/webp:https://ourayelks.org/wp-content/uploads/2025/09/Chili-Cook-Off-Flyer.webp
ORGANIZER;CN="Susan Winton":MAILTO:wintoncolorado@gmail.com
END:VEVENT
END:VCALENDAR