BEGIN:VCALENDAR
VERSION:2.0
PRODID:-//Ouray Elks Lodge #492 - ECPv6.15.20//NONSGML v1.0//EN
CALSCALE:GREGORIAN
METHOD:PUBLISH
X-WR-CALNAME:Ouray Elks Lodge #492
X-ORIGINAL-URL:https://ourayelks.org
X-WR-CALDESC:Events for Ouray Elks Lodge #492
REFRESH-INTERVAL;VALUE=DURATION:PT1H
X-Robots-Tag:noindex
X-PUBLISHED-TTL:PT1H
BEGIN:VTIMEZONE
TZID:America/Denver
BEGIN:DAYLIGHT
TZOFFSETFROM:-0700
TZOFFSETTO:-0600
TZNAME:MDT
DTSTART:20250309T090000
END:DAYLIGHT
BEGIN:STANDARD
TZOFFSETFROM:-0600
TZOFFSETTO:-0700
TZNAME:MST
DTSTART:20251102T080000
END:STANDARD
BEGIN:DAYLIGHT
TZOFFSETFROM:-0700
TZOFFSETTO:-0600
TZNAME:MDT
DTSTART:20260308T090000
END:DAYLIGHT
BEGIN:STANDARD
TZOFFSETFROM:-0600
TZOFFSETTO:-0700
TZNAME:MST
DTSTART:20261101T080000
END:STANDARD
BEGIN:DAYLIGHT
TZOFFSETFROM:-0700
TZOFFSETTO:-0600
TZNAME:MDT
DTSTART:20270314T090000
END:DAYLIGHT
BEGIN:STANDARD
TZOFFSETFROM:-0600
TZOFFSETTO:-0700
TZNAME:MST
DTSTART:20271107T080000
END:STANDARD
END:VTIMEZONE
BEGIN:VEVENT
DTSTART;TZID=America/Denver:20260228T170000
DTEND;TZID=America/Denver:20260228T220000
DTSTAMP:20260423T145049
CREATED:20260202T033723Z
LAST-MODIFIED:20260205T010023Z
UID:508-1772298000-1772316000@ourayelks.org
SUMMARY:Mardi Gras Party - February 28th (Open to the Public)
DESCRIPTION:Cocktails 5:00pm \nDinner 6:00pm \nLive Music 7:00pm \n  \n 
URL:https://ourayelks.org/event/mardi-gras-party-february-28th-open-to-the-public/
LOCATION:Ouray Elks Lodge #492\, 421 Main Street\, Ouray\, CO\, 81427\, United States
CATEGORIES:Food
ATTACH;FMTTYPE=image/webp:https://ourayelks.org/wp-content/uploads/2026/02/Screenshot-2026-02-04-at-5.54.48-PM.webp
END:VEVENT
END:VCALENDAR