BEGIN:VCALENDAR
VERSION:2.0
PRODID:-//Ouray Elks Lodge #492 - ECPv6.15.20//NONSGML v1.0//EN
CALSCALE:GREGORIAN
METHOD:PUBLISH
X-ORIGINAL-URL:https://ourayelks.org
X-WR-CALDESC:Events for Ouray Elks Lodge #492
REFRESH-INTERVAL;VALUE=DURATION:PT1H
X-Robots-Tag:noindex
X-PUBLISHED-TTL:PT1H
BEGIN:VTIMEZONE
TZID:America/Denver
BEGIN:DAYLIGHT
TZOFFSETFROM:-0700
TZOFFSETTO:-0600
TZNAME:MDT
DTSTART:20250309T090000
END:DAYLIGHT
BEGIN:STANDARD
TZOFFSETFROM:-0600
TZOFFSETTO:-0700
TZNAME:MST
DTSTART:20251102T080000
END:STANDARD
BEGIN:DAYLIGHT
TZOFFSETFROM:-0700
TZOFFSETTO:-0600
TZNAME:MDT
DTSTART:20260308T090000
END:DAYLIGHT
BEGIN:STANDARD
TZOFFSETFROM:-0600
TZOFFSETTO:-0700
TZNAME:MST
DTSTART:20261101T080000
END:STANDARD
BEGIN:DAYLIGHT
TZOFFSETFROM:-0700
TZOFFSETTO:-0600
TZNAME:MDT
DTSTART:20270314T090000
END:DAYLIGHT
BEGIN:STANDARD
TZOFFSETFROM:-0600
TZOFFSETTO:-0700
TZNAME:MST
DTSTART:20271107T080000
END:STANDARD
END:VTIMEZONE
BEGIN:VEVENT
DTSTART;TZID=America/Denver:20260413T180000
DTEND;TZID=America/Denver:20260417T210000
DTSTAMP:20260423T114422
CREATED:20260112T051827Z
LAST-MODIFIED:20260123T225841Z
UID:467-1776103200-1776459600@ourayelks.org
SUMMARY:Bowling Playoffs
DESCRIPTION:
URL:https://ourayelks.org/event/bowling-playoffs/
CATEGORIES:Bowling
END:VEVENT
BEGIN:VEVENT
DTSTART;TZID=America/Denver:20260414T100000
DTEND;TZID=America/Denver:20260414T120000
DTSTAMP:20260423T114422
CREATED:20260403T191306Z
LAST-MODIFIED:20260403T191306Z
UID:576-1776160800-1776168000@ourayelks.org
SUMMARY:Monthly Veterans Coffee - Welcome Home Alliance for Veterans
DESCRIPTION:Welcome Home Alliance for Veterans \nRidgway Coffee and Pastries \n2nd Tuesday of every month 10:00 am – 12:00 pm \nSherbino Theater 604 Clinton St.\, Ridgway\, CO 81432 \nOnly Veterans. If you haven’t registered for your veteran ID tag\, please bring your DD214 or a military ID. No family\, no friends\, no soliciting\, no agendas\, this is for veterans only.
URL:https://ourayelks.org/event/monthly-veterans-coffee-welcome-home-alliance-for-veterans/
LOCATION:Sherbino Theater\, 604 Clinton St\, Ridgway\, CO\, 81432\, United States
CATEGORIES:Veterans
ATTACH;FMTTYPE=image/webp:https://ourayelks.org/wp-content/uploads/2025/09/360_F_179283479_kBGNwO0HmuTgfVKDXmQltNLE6Pj3r0QS.webp
END:VEVENT
END:VCALENDAR