BEGIN:VCALENDAR
VERSION:2.0
PRODID:-//Ouray Elks Lodge #492 - ECPv6.15.20//NONSGML v1.0//EN
CALSCALE:GREGORIAN
METHOD:PUBLISH
X-WR-CALNAME:Ouray Elks Lodge #492
X-ORIGINAL-URL:https://ourayelks.org
X-WR-CALDESC:Events for Ouray Elks Lodge #492
REFRESH-INTERVAL;VALUE=DURATION:PT1H
X-Robots-Tag:noindex
X-PUBLISHED-TTL:PT1H
BEGIN:VTIMEZONE
TZID:America/Denver
BEGIN:DAYLIGHT
TZOFFSETFROM:-0700
TZOFFSETTO:-0600
TZNAME:MDT
DTSTART:20240310T090000
END:DAYLIGHT
BEGIN:STANDARD
TZOFFSETFROM:-0600
TZOFFSETTO:-0700
TZNAME:MST
DTSTART:20241103T080000
END:STANDARD
BEGIN:DAYLIGHT
TZOFFSETFROM:-0700
TZOFFSETTO:-0600
TZNAME:MDT
DTSTART:20250309T090000
END:DAYLIGHT
BEGIN:STANDARD
TZOFFSETFROM:-0600
TZOFFSETTO:-0700
TZNAME:MST
DTSTART:20251102T080000
END:STANDARD
BEGIN:DAYLIGHT
TZOFFSETFROM:-0700
TZOFFSETTO:-0600
TZNAME:MDT
DTSTART:20260308T090000
END:DAYLIGHT
BEGIN:STANDARD
TZOFFSETFROM:-0600
TZOFFSETTO:-0700
TZNAME:MST
DTSTART:20261101T080000
END:STANDARD
BEGIN:DAYLIGHT
TZOFFSETFROM:-0700
TZOFFSETTO:-0600
TZNAME:MDT
DTSTART:20270314T090000
END:DAYLIGHT
BEGIN:STANDARD
TZOFFSETFROM:-0600
TZOFFSETTO:-0700
TZNAME:MST
DTSTART:20271107T080000
END:STANDARD
END:VTIMEZONE
BEGIN:VEVENT
DTSTART;TZID=America/Denver:20260123T183000
DTEND;TZID=America/Denver:20260123T210000
DTSTAMP:20260423T204440
CREATED:20260112T045316Z
LAST-MODIFIED:20260112T045316Z
UID:407-1769193000-1769202000@ourayelks.org
SUMMARY:Bowling Team 2 v 5
DESCRIPTION:Team 1-Gutter Snipers \nTeam 2-Randy and the Rollers \nTeam 3-Lucky Strikes \nTeam 4-The Pards \nTeam 5-Gutter Balls \nTeam 6-The Bowling Jobs
URL:https://ourayelks.org/event/bowling-team-2-v-5-2/
CATEGORIES:Bowling
END:VEVENT
BEGIN:VEVENT
DTSTART;TZID=America/Denver:20260120T183000
DTEND;TZID=America/Denver:20260120T210000
DTSTAMP:20260423T204440
CREATED:20260112T045217Z
LAST-MODIFIED:20260112T045217Z
UID:405-1768933800-1768942800@ourayelks.org
SUMMARY:Bowling Team 3 v 4
DESCRIPTION:Team 1-Gutter Snipers \nTeam 2-Randy and the Rollers \nTeam 3-Lucky Strikes \nTeam 4-The Pards \nTeam 5-Gutter Balls \nTeam 6-The Bowling Jobs
URL:https://ourayelks.org/event/bowling-team-3-v-4-2/
CATEGORIES:Bowling
END:VEVENT
BEGIN:VEVENT
DTSTART;TZID=America/Denver:20260119T183000
DTEND;TZID=America/Denver:20260119T210000
DTSTAMP:20260423T204440
CREATED:20260112T045116Z
LAST-MODIFIED:20260112T045116Z
UID:403-1768847400-1768856400@ourayelks.org
SUMMARY:Bowling Team 1 v 6
DESCRIPTION:Team 1-Gutter Snipers \nTeam 2-Randy and the Rollers \nTeam 3-Lucky Strikes \nTeam 4-The Pards \nTeam 5-Gutter Balls \nTeam 6-The Bowling Jobs
URL:https://ourayelks.org/event/bowling-team-1-v-6-2/
CATEGORIES:Bowling
END:VEVENT
BEGIN:VEVENT
DTSTART;TZID=America/Denver:20251215T000000
DTEND;TZID=America/Denver:20251217T235959
DTSTAMP:20260423T204440
CREATED:20251003T021718Z
LAST-MODIFIED:20251129T185601Z
UID:294-1765756800-1766015999@ourayelks.org
SUMMARY:Bowling playoffs - TBD
DESCRIPTION:Dec 15 – Team 1 v 2 \nDec 16 – Team 3 v 4 \nDec 17 – Team 5 v 6 \n 
URL:https://ourayelks.org/event/bowling-playoffs-tbd-3/
CATEGORIES:Bowling
END:VEVENT
BEGIN:VEVENT
DTSTART;TZID=America/Denver:20251208T000000
DTEND;TZID=America/Denver:20251210T235959
DTSTAMP:20260423T204440
CREATED:20251003T021621Z
LAST-MODIFIED:20251129T185507Z
UID:292-1765152000-1765411199@ourayelks.org
SUMMARY:Bowling playoffs - TBD
DESCRIPTION:Dec 8 – Team 5 v 7 \nDec 9 – Team 2 v 4 \nDec 10 – Team 1 v 3
URL:https://ourayelks.org/event/bowling-playoffs-tbd-2/
CATEGORIES:Bowling
END:VEVENT
BEGIN:VEVENT
DTSTART;TZID=America/Denver:20251201T000000
DTEND;TZID=America/Denver:20251203T235959
DTSTAMP:20260423T204440
CREATED:20251003T021531Z
LAST-MODIFIED:20251129T185407Z
UID:290-1764547200-1764806399@ourayelks.org
SUMMARY:Bowling playoffs - TBD
DESCRIPTION:Dec 1 Team 1 v 4 \nDec 2 Team 2 v 3 \nDec 3 Team 6 v 7
URL:https://ourayelks.org/event/bowling-playoffs-tbd/
CATEGORIES:Bowling
END:VEVENT
BEGIN:VEVENT
DTSTART;TZID=America/Denver:20251119T183000
DTEND;TZID=America/Denver:20251119T210000
DTSTAMP:20260423T204440
CREATED:20251003T021302Z
LAST-MODIFIED:20251003T021302Z
UID:288-1763577000-1763586000@ourayelks.org
SUMMARY:Bowling - team 5 v 6
DESCRIPTION:Teams: \n1 Pinheads \n2 Gutter Snipers \n3 Butter Hole Ballers \n4 Randy and the Rollers \n5 REM Stempe & The Hotties \n6 Lucky Strikes \n7 We Were Framed
URL:https://ourayelks.org/event/bowling-team-5-v-6/
CATEGORIES:Bowling
END:VEVENT
BEGIN:VEVENT
DTSTART;TZID=America/Denver:20251118T183000
DTEND;TZID=America/Denver:20251118T210000
DTSTAMP:20260423T204440
CREATED:20251003T021132Z
LAST-MODIFIED:20251003T021132Z
UID:286-1763490600-1763499600@ourayelks.org
SUMMARY:Bowling - team 4 v 7
DESCRIPTION:Teams: \n1 Pinheads \n2 Gutter Snipers \n3 Butter Hole Ballers \n4 Randy and the Rollers \n5 REM Stempe & The Hotties \n6 Lucky Strikes \n7 We Were Framed
URL:https://ourayelks.org/event/bowling-team-4-v-7/
CATEGORIES:Bowling
END:VEVENT
BEGIN:VEVENT
DTSTART;TZID=America/Denver:20251117T183000
DTEND;TZID=America/Denver:20251117T210000
DTSTAMP:20260423T204440
CREATED:20251003T021037Z
LAST-MODIFIED:20251003T021037Z
UID:284-1763404200-1763413200@ourayelks.org
SUMMARY:Bowling - team 2 v 3
DESCRIPTION:Teams: \n1 Pinheads \n2 Gutter Snipers \n3 Butter Hole Ballers \n4 Randy and the Rollers \n5 REM Stempe & The Hotties \n6 Lucky Strikes \n7 We Were Framed
URL:https://ourayelks.org/event/bowling-team-2-v-3/
CATEGORIES:Bowling
END:VEVENT
BEGIN:VEVENT
DTSTART;TZID=America/Denver:20251112T183000
DTEND;TZID=America/Denver:20251112T210000
DTSTAMP:20260423T204440
CREATED:20251003T020933Z
LAST-MODIFIED:20251003T020933Z
UID:281-1762972200-1762981200@ourayelks.org
SUMMARY:Bowling - team 1 v 3
DESCRIPTION:Teams: \n1 Pinheads \n2 Gutter Snipers \n3 Butter Hole Ballers \n4 Randy and the Rollers \n5 REM Stempe & The Hotties \n6 Lucky Strikes \n7 We Were Framed
URL:https://ourayelks.org/event/bowling-team-1-v-3/
CATEGORIES:Bowling
END:VEVENT
BEGIN:VEVENT
DTSTART;TZID=America/Denver:20251111T183000
DTEND;TZID=America/Denver:20251111T210000
DTSTAMP:20260423T204440
CREATED:20251003T020831Z
LAST-MODIFIED:20251003T020831Z
UID:279-1762885800-1762894800@ourayelks.org
SUMMARY:Bowling - team 4 v 6
DESCRIPTION:Teams: \n1 Pinheads \n2 Gutter Snipers \n3 Butter Hole Ballers \n4 Randy and the Rollers \n5 REM Stempe & The Hotties \n6 Lucky Strikes \n7 We Were Framed
URL:https://ourayelks.org/event/bowling-team-4-v-6/
CATEGORIES:Bowling
END:VEVENT
BEGIN:VEVENT
DTSTART;TZID=America/Denver:20251110T183000
DTEND;TZID=America/Denver:20251110T210000
DTSTAMP:20260423T204440
CREATED:20251003T020500Z
LAST-MODIFIED:20251003T020506Z
UID:277-1762799400-1762808400@ourayelks.org
SUMMARY:Bowling - team 2 v 7
DESCRIPTION:Teams: \n1 Pinheads \n2 Gutter Snipers \n3 Butter Hole Ballers \n4 Randy and the Rollers \n5 REM Stempe & The Hotties \n6 Lucky Strikes \n7 We Were Framed
URL:https://ourayelks.org/event/bowling-team-2-v-7/
CATEGORIES:Bowling
END:VEVENT
BEGIN:VEVENT
DTSTART;TZID=America/Denver:20251105T183000
DTEND;TZID=America/Denver:20251105T210000
DTSTAMP:20260423T204440
CREATED:20251003T005447Z
LAST-MODIFIED:20251003T005447Z
UID:274-1762367400-1762376400@ourayelks.org
SUMMARY:Bowling - team 6 v 7
DESCRIPTION:Teams: \n1 Pinheads \n2 Gutter Snipers \n3 Butter Hole Ballers \n4 Randy and the Rollers \n5 REM Stempe & The Hotties \n6 Lucky Strikes \n7 We Were Framed
URL:https://ourayelks.org/event/bowling-team-6-v-7/
CATEGORIES:Bowling
END:VEVENT
BEGIN:VEVENT
DTSTART;TZID=America/Denver:20251104T183000
DTEND;TZID=America/Denver:20251104T210000
DTSTAMP:20260423T204440
CREATED:20251003T005338Z
LAST-MODIFIED:20251003T005338Z
UID:272-1762281000-1762290000@ourayelks.org
SUMMARY:Bowling - team 3 v 5
DESCRIPTION:Teams: \n1 Pinheads \n2 Gutter Snipers \n3 Butter Hole Ballers \n4 Randy and the Rollers \n5 REM Stempe & The Hotties \n6 Lucky Strikes \n7 We Were Framed
URL:https://ourayelks.org/event/bowling-team-3-v-5/
CATEGORIES:Bowling
END:VEVENT
BEGIN:VEVENT
DTSTART;TZID=America/Denver:20251103T183000
DTEND;TZID=America/Denver:20251103T210000
DTSTAMP:20260423T204440
CREATED:20251003T005233Z
LAST-MODIFIED:20251003T005233Z
UID:270-1762194600-1762203600@ourayelks.org
SUMMARY:Bowling - team 1 v 4
DESCRIPTION:Teams: \n1 Pinheads \n2 Gutter Snipers \n3 Butter Hole Ballers \n4 Randy and the Rollers \n5 REM Stempe & The Hotties \n6 Lucky Strikes \n7 We Were Framed
URL:https://ourayelks.org/event/bowling-team-1-v-4/
CATEGORIES:Bowling
END:VEVENT
BEGIN:VEVENT
DTSTART;TZID=America/Denver:20251029T183000
DTEND;TZID=America/Denver:20251029T210000
DTSTAMP:20260423T204440
CREATED:20251003T005111Z
LAST-MODIFIED:20251003T005111Z
UID:268-1761762600-1761771600@ourayelks.org
SUMMARY:Bowling - team 1 v 7
DESCRIPTION:Teams: \n1 Pinheads \n2 Gutter Snipers \n3 Butter Hole Ballers \n4 Randy and the Rollers \n5 REM Stempe & The Hotties \n6 Lucky Strikes \n7 We Were Framed
URL:https://ourayelks.org/event/bowling-team-1-v-7/
CATEGORIES:Bowling
END:VEVENT
BEGIN:VEVENT
DTSTART;TZID=America/Denver:20251028T183000
DTEND;TZID=America/Denver:20251028T210000
DTSTAMP:20260423T204440
CREATED:20251003T005002Z
LAST-MODIFIED:20251003T005002Z
UID:266-1761676200-1761685200@ourayelks.org
SUMMARY:Bowling - team 2 v 5
DESCRIPTION:Teams: \n1 Pinheads \n2 Gutter Snipers \n3 Butter Hole Ballers \n4 Randy and the Rollers \n5 REM Stempe & The Hotties \n6 Lucky Strikes \n7 We Were Framed
URL:https://ourayelks.org/event/bowling-team-2-v-5/
LOCATION:Ouray Elks Lodge #492\, 421 Main Street\, Ouray\, CO\, 81427\, United States
CATEGORIES:Bowling
END:VEVENT
BEGIN:VEVENT
DTSTART;TZID=America/Denver:20251027T183000
DTEND;TZID=America/Denver:20251027T210000
DTSTAMP:20260423T204440
CREATED:20251003T004835Z
LAST-MODIFIED:20251003T004835Z
UID:264-1761589800-1761598800@ourayelks.org
SUMMARY:Bowling - team 3 v 4
DESCRIPTION:Teams: \n1 Pinheads \n2 Gutter Snipers \n3 Butter Hole Ballers \n4 Randy and the Rollers \n5 REM Stempe & The Hotties \n6 Lucky Strikes \n7 We Were Framed
URL:https://ourayelks.org/event/bowling-team-3-v-4/
LOCATION:Ouray Elks Lodge #492\, 421 Main Street\, Ouray\, CO\, 81427\, United States
CATEGORIES:Bowling
END:VEVENT
BEGIN:VEVENT
DTSTART;TZID=America/Denver:20251022T183000
DTEND;TZID=America/Denver:20251022T210000
DTSTAMP:20260423T204440
CREATED:20251003T004641Z
LAST-MODIFIED:20251003T004641Z
UID:262-1761157800-1761166800@ourayelks.org
SUMMARY:Bowling - team 1 v 5
DESCRIPTION:Teams: \n1 Pinheads \n2 Gutter Snipers \n3 Butter Hole Ballers \n4 Randy and the Rollers \n5 REM Stempe & The Hotties \n6 Lucky Strikes \n7 We Were Framed
URL:https://ourayelks.org/event/bowling-team-1-v-5/
LOCATION:Ouray Elks Lodge #492\, 421 Main Street\, Ouray\, CO\, 81427\, United States
CATEGORIES:Bowling
END:VEVENT
BEGIN:VEVENT
DTSTART;TZID=America/Denver:20251021T183000
DTEND;TZID=America/Denver:20251021T210000
DTSTAMP:20260423T204440
CREATED:20251003T004251Z
LAST-MODIFIED:20251003T004439Z
UID:257-1761071400-1761080400@ourayelks.org
SUMMARY:Bowling - team 2 v 6
DESCRIPTION:Teams: \n1 Pinheads \n2 Gutter Snipers \n3 Butter Hole Ballers \n4 Randy and the Rollers \n5 REM Stempe & The Hotties \n6 Lucky Strikes \n7 We Were Framed
URL:https://ourayelks.org/event/bowling-team-2-v-6/
LOCATION:Ouray Elks Lodge #492\, 421 Main Street\, Ouray\, CO\, 81427\, United States
CATEGORIES:Bowling
END:VEVENT
BEGIN:VEVENT
DTSTART;TZID=America/Denver:20251020T183000
DTEND;TZID=America/Denver:20251020T210000
DTSTAMP:20260423T204440
CREATED:20251003T004140Z
LAST-MODIFIED:20251003T004140Z
UID:255-1760985000-1760994000@ourayelks.org
SUMMARY:Bowling - team 3 v 7
DESCRIPTION:Teams: \n1 Pinheads \n2 Gutter Snipers \n3 Butter Hole Ballers \n4 Randy and the Rollers \n5 REM Stempe & The Hotties \n6 Lucky Strikes \n7 We Were Framed
URL:https://ourayelks.org/event/bowling-team-3-v-7/
LOCATION:Ouray Elks Lodge #492\, 421 Main Street\, Ouray\, CO\, 81427\, United States
CATEGORIES:Bowling
END:VEVENT
BEGIN:VEVENT
DTSTART;TZID=America/Denver:20251015T183000
DTEND;TZID=America/Denver:20251015T210000
DTSTAMP:20260423T204440
CREATED:20251003T003919Z
LAST-MODIFIED:20251003T003919Z
UID:253-1760553000-1760562000@ourayelks.org
SUMMARY:Bowling - team 3 v 6
DESCRIPTION:Teams: \n1 Pinheads \n2 Gutter Snipers \n3 Butter Hole Ballers \n4 Randy and the Rollers \n5 REM Stempe & The Hotties \n6 Lucky Strikes \n7 We Were Framed
URL:https://ourayelks.org/event/bowling-team-3-v-6/
LOCATION:Ouray Elks Lodge #492\, 421 Main Street\, Ouray\, CO\, 81427\, United States
CATEGORIES:Bowling
END:VEVENT
BEGIN:VEVENT
DTSTART;TZID=America/Denver:20251014T183000
DTEND;TZID=America/Denver:20251014T210000
DTSTAMP:20260423T204440
CREATED:20251003T003808Z
LAST-MODIFIED:20251003T003808Z
UID:251-1760466600-1760475600@ourayelks.org
SUMMARY:Bowling - team 1 v 2
DESCRIPTION:Teams: \n1 Pinheads \n2 Gutter Snipers \n3 Butter Hole Ballers \n4 Randy and the Rollers \n5 REM Stempe & The Hotties \n6 Lucky Strikes \n7 We Were Framed
URL:https://ourayelks.org/event/bowling-team-1-v-2/
LOCATION:Ouray Elks Lodge #492\, 421 Main Street\, Ouray\, CO\, 81427\, United States
CATEGORIES:Bowling
END:VEVENT
BEGIN:VEVENT
DTSTART;TZID=America/Denver:20251013T183000
DTEND;TZID=America/Denver:20251013T210000
DTSTAMP:20260423T204440
CREATED:20251003T003642Z
LAST-MODIFIED:20251003T003642Z
UID:249-1760380200-1760389200@ourayelks.org
SUMMARY:Bowling - team 4 v 5
DESCRIPTION:Teams: \n1 Pinheads \n2 Gutter Snipers \n3 Butter Hole Ballers \n4 Randy and the Rollers \n5 REM Stempe & The Hotties \n6 Lucky Strikes \n7 We Were Framed
URL:https://ourayelks.org/event/bowling-team-4-v-5/
LOCATION:Ouray Elks Lodge #492\, 421 Main Street\, Ouray\, CO\, 81427\, United States
CATEGORIES:Bowling
END:VEVENT
BEGIN:VEVENT
DTSTART;TZID=America/Denver:20251008T183000
DTEND;TZID=America/Denver:20251008T210000
DTSTAMP:20260423T204440
CREATED:20251003T003418Z
LAST-MODIFIED:20251003T003418Z
UID:247-1759948200-1759957200@ourayelks.org
SUMMARY:Bowling - team 1 v 6
DESCRIPTION:Teams: \n1 Pinheads \n2 Gutter Snipers \n3 Butter Hole Ballers \n4 Randy and the Rollers \n5 REM Stempe & The Hotties \n6 Lucky Strikes \n7 We Were Framed
URL:https://ourayelks.org/event/bowling-team-1-v-6/
CATEGORIES:Bowling
END:VEVENT
BEGIN:VEVENT
DTSTART;TZID=America/Denver:20251007T183000
DTEND;TZID=America/Denver:20251007T210000
DTSTAMP:20260423T204440
CREATED:20251003T003032Z
LAST-MODIFIED:20251003T003032Z
UID:245-1759861800-1759870800@ourayelks.org
SUMMARY:Bowling - team 2 v 4
DESCRIPTION:
URL:https://ourayelks.org/event/bowling-team-2-v-4/
LOCATION:Ouray Elks Lodge #492\, 421 Main Street\, Ouray\, CO\, 81427\, United States
CATEGORIES:Bowling
END:VEVENT
BEGIN:VEVENT
DTSTART;TZID=America/Denver:20251006T183000
DTEND;TZID=America/Denver:20251006T210000
DTSTAMP:20260423T204440
CREATED:20251003T002450Z
LAST-MODIFIED:20251003T002831Z
UID:240-1759775400-1759784400@ourayelks.org
SUMMARY:Bowling - team 5 v 7
DESCRIPTION:
URL:https://ourayelks.org/event/bowling-team-5-v-7/
LOCATION:Ouray Elks Lodge #492\, 421 Main Street\, Ouray\, CO\, 81427\, United States
CATEGORIES:Bowling
END:VEVENT
END:VCALENDAR