BEGIN:VCALENDAR
VERSION:2.0
PRODID:-//Ouray Elks Lodge #492 - ECPv6.15.20//NONSGML v1.0//EN
CALSCALE:GREGORIAN
METHOD:PUBLISH
X-WR-CALNAME:Ouray Elks Lodge #492
X-ORIGINAL-URL:https://ourayelks.org
X-WR-CALDESC:Events for Ouray Elks Lodge #492
REFRESH-INTERVAL;VALUE=DURATION:PT1H
X-Robots-Tag:noindex
X-PUBLISHED-TTL:PT1H
BEGIN:VTIMEZONE
TZID:America/Denver
BEGIN:DAYLIGHT
TZOFFSETFROM:-0700
TZOFFSETTO:-0600
TZNAME:MDT
DTSTART:20250309T090000
END:DAYLIGHT
BEGIN:STANDARD
TZOFFSETFROM:-0600
TZOFFSETTO:-0700
TZNAME:MST
DTSTART:20251102T080000
END:STANDARD
BEGIN:DAYLIGHT
TZOFFSETFROM:-0700
TZOFFSETTO:-0600
TZNAME:MDT
DTSTART:20260308T090000
END:DAYLIGHT
BEGIN:STANDARD
TZOFFSETFROM:-0600
TZOFFSETTO:-0700
TZNAME:MST
DTSTART:20261101T080000
END:STANDARD
BEGIN:DAYLIGHT
TZOFFSETFROM:-0700
TZOFFSETTO:-0600
TZNAME:MDT
DTSTART:20270314T090000
END:DAYLIGHT
BEGIN:STANDARD
TZOFFSETFROM:-0600
TZOFFSETTO:-0700
TZNAME:MST
DTSTART:20271107T080000
END:STANDARD
END:VTIMEZONE
BEGIN:VEVENT
DTSTART;TZID=America/Denver:20260206T170000
DTEND;TZID=America/Denver:20260206T200000
DTSTAMP:20260424T104430
CREATED:20260202T034319Z
LAST-MODIFIED:20260202T034319Z
UID:517-1770397200-1770408000@ourayelks.org
SUMMARY:Friday Night Dinner
DESCRIPTION:Cocktails – 5:00pm \nDinner – 6:00pm
URL:https://ourayelks.org/event/friday-night-dinner-6/
CATEGORIES:Friday Night Dinner
END:VEVENT
BEGIN:VEVENT
DTSTART;TZID=America/Denver:20260208T150000
DTEND;TZID=America/Denver:20260208T193000
DTSTAMP:20260424T104430
CREATED:20260202T031942Z
LAST-MODIFIED:20260202T031942Z
UID:492-1770562800-1770579000@ourayelks.org
SUMMARY:Superbowl Party - 3pm
DESCRIPTION:Bring an appetizer to share!
URL:https://ourayelks.org/event/superbowl-party-3pm/
LOCATION:Ouray Elks Lodge #492\, 421 Main Street\, Ouray\, CO\, 81427\, United States
CATEGORIES:Food
ATTACH;FMTTYPE=image/jpeg:https://ourayelks.org/wp-content/uploads/2026/02/Superbowl.jpeg
END:VEVENT
BEGIN:VEVENT
DTSTART;TZID=America/Denver:20260213T000000
DTEND;TZID=America/Denver:20260213T235959
DTSTAMP:20260424T104430
CREATED:20260202T034358Z
LAST-MODIFIED:20260202T034358Z
UID:519-1770940800-1771027199@ourayelks.org
SUMMARY:NO Friday Night Dinner
DESCRIPTION:
URL:https://ourayelks.org/event/no-friday-night-dinner-2/
CATEGORIES:Friday Night Dinner
END:VEVENT
BEGIN:VEVENT
DTSTART;TZID=America/Denver:20260220T170000
DTEND;TZID=America/Denver:20260220T200000
DTSTAMP:20260424T104430
CREATED:20260202T034450Z
LAST-MODIFIED:20260202T034450Z
UID:521-1771606800-1771617600@ourayelks.org
SUMMARY:Friday Night Dinner
DESCRIPTION:Cocktails – 5:00pm \nDinner – 6:00pm
URL:https://ourayelks.org/event/friday-night-dinner-7/
CATEGORIES:Friday Night Dinner
END:VEVENT
BEGIN:VEVENT
DTSTART;TZID=America/Denver:20260227T170000
DTEND;TZID=America/Denver:20260227T200000
DTSTAMP:20260424T104430
CREATED:20260202T034549Z
LAST-MODIFIED:20260225T205041Z
UID:523-1772211600-1772222400@ourayelks.org
SUMMARY:NO Friday Night Dinner
DESCRIPTION:Please join us Mardi Gras Party on Saturday!
URL:https://ourayelks.org/event/friday-night-dinner-8/
CATEGORIES:Friday Night Dinner
END:VEVENT
BEGIN:VEVENT
DTSTART;TZID=America/Denver:20260228T170000
DTEND;TZID=America/Denver:20260228T220000
DTSTAMP:20260424T104430
CREATED:20260202T033723Z
LAST-MODIFIED:20260205T010023Z
UID:508-1772298000-1772316000@ourayelks.org
SUMMARY:Mardi Gras Party - February 28th (Open to the Public)
DESCRIPTION:Cocktails 5:00pm \nDinner 6:00pm \nLive Music 7:00pm \n  \n 
URL:https://ourayelks.org/event/mardi-gras-party-february-28th-open-to-the-public/
LOCATION:Ouray Elks Lodge #492\, 421 Main Street\, Ouray\, CO\, 81427\, United States
CATEGORIES:Food
ATTACH;FMTTYPE=image/webp:https://ourayelks.org/wp-content/uploads/2026/02/Screenshot-2026-02-04-at-5.54.48-PM.webp
END:VEVENT
BEGIN:VEVENT
DTSTART;TZID=America/Denver:20260313T170000
DTEND;TZID=America/Denver:20260313T200000
DTSTAMP:20260424T104430
CREATED:20260309T215036Z
LAST-MODIFIED:20260309T215036Z
UID:555-1773421200-1773432000@ourayelks.org
SUMMARY:St. Patty's Dinner March 13th - FND
DESCRIPTION:5:00 Cocktails \n6:00 Dinner \n 
URL:https://ourayelks.org/event/st-pattys-dinner-march-13th-fnd/
LOCATION:Ouray Elks Lodge #492\, 421 Main Street\, Ouray\, CO\, 81427\, United States
CATEGORIES:Food,Friday Night Dinner
END:VEVENT
BEGIN:VEVENT
DTSTART;TZID=America/Denver:20260320T170000
DTEND;TZID=America/Denver:20260320T193000
DTSTAMP:20260424T104430
CREATED:20260309T215141Z
LAST-MODIFIED:20260309T215141Z
UID:557-1774026000-1774035000@ourayelks.org
SUMMARY:FND March 20th
DESCRIPTION:Cocktails 5:00pm \nDinner 6:00pm
URL:https://ourayelks.org/event/fnd-march-20th/
CATEGORIES:Friday Night Dinner
END:VEVENT
BEGIN:VEVENT
DTSTART;TZID=America/Denver:20260327T170000
DTEND;TZID=America/Denver:20260327T193000
DTSTAMP:20260424T104430
CREATED:20260309T215357Z
LAST-MODIFIED:20260309T215357Z
UID:561-1774630800-1774639800@ourayelks.org
SUMMARY:Friday Night Dinner - March 28th
DESCRIPTION:5:00 Cocktails \n6:00 Dinner
URL:https://ourayelks.org/event/friday-night-dinner-march-28th/
LOCATION:Ouray Elks Lodge #492\, 421 Main Street\, Ouray\, CO\, 81427\, United States
CATEGORIES:Friday Night Dinner
END:VEVENT
BEGIN:VEVENT
DTSTART;TZID=America/Denver:20260403T170000
DTEND;TZID=America/Denver:20260403T193000
DTSTAMP:20260424T104430
CREATED:20260403T191736Z
LAST-MODIFIED:20260403T191736Z
UID:580-1775235600-1775244600@ourayelks.org
SUMMARY:Friday Night Dinner
DESCRIPTION:5:00 Cocktails \n6:00 Dinner
URL:https://ourayelks.org/event/friday-night-dinner-9/
CATEGORIES:Friday Night Dinner
END:VEVENT
BEGIN:VEVENT
DTSTART;TZID=America/Denver:20260410T170000
DTEND;TZID=America/Denver:20260410T200000
DTSTAMP:20260424T104430
CREATED:20260403T191833Z
LAST-MODIFIED:20260403T191833Z
UID:582-1775840400-1775851200@ourayelks.org
SUMMARY:Friday Night Dinner
DESCRIPTION:5:00 Cocktails \n6:00 Dinner
URL:https://ourayelks.org/event/friday-night-dinner-10/
CATEGORIES:Friday Night Dinner
END:VEVENT
BEGIN:VEVENT
DTSTART;TZID=America/Denver:20260417T170000
DTEND;TZID=America/Denver:20260417T170000
DTSTAMP:20260424T104430
CREATED:20260403T192026Z
LAST-MODIFIED:20260416T155435Z
UID:586-1776445200-1776445200@ourayelks.org
SUMMARY:Friday Night Dinner
DESCRIPTION:Cocktails 5:00 \nDinner 6:00
URL:https://ourayelks.org/event/friday-night-dinner-11/
CATEGORIES:Friday Night Dinner
END:VEVENT
BEGIN:VEVENT
DTSTART;TZID=America/Denver:20260424T170000
DTEND;TZID=America/Denver:20260424T193000
DTSTAMP:20260424T104430
CREATED:20260403T192217Z
LAST-MODIFIED:20260403T192217Z
UID:590-1777050000-1777059000@ourayelks.org
SUMMARY:Friday Night Dinner
DESCRIPTION:5:00 Cocktails \n6:00 Dinner
URL:https://ourayelks.org/event/friday-night-dinner-12/
CATEGORIES:Friday Night Dinner
END:VEVENT
END:VCALENDAR