BEGIN:VCALENDAR
VERSION:2.0
PRODID:-//Ouray Elks Lodge #492 - ECPv6.15.20//NONSGML v1.0//EN
CALSCALE:GREGORIAN
METHOD:PUBLISH
X-ORIGINAL-URL:https://ourayelks.org
X-WR-CALDESC:Events for Ouray Elks Lodge #492
REFRESH-INTERVAL;VALUE=DURATION:PT1H
X-Robots-Tag:noindex
X-PUBLISHED-TTL:PT1H
BEGIN:VTIMEZONE
TZID:America/Denver
BEGIN:DAYLIGHT
TZOFFSETFROM:-0700
TZOFFSETTO:-0600
TZNAME:MDT
DTSTART:20240310T090000
END:DAYLIGHT
BEGIN:STANDARD
TZOFFSETFROM:-0600
TZOFFSETTO:-0700
TZNAME:MST
DTSTART:20241103T080000
END:STANDARD
BEGIN:DAYLIGHT
TZOFFSETFROM:-0700
TZOFFSETTO:-0600
TZNAME:MDT
DTSTART:20250309T090000
END:DAYLIGHT
BEGIN:STANDARD
TZOFFSETFROM:-0600
TZOFFSETTO:-0700
TZNAME:MST
DTSTART:20251102T080000
END:STANDARD
BEGIN:DAYLIGHT
TZOFFSETFROM:-0700
TZOFFSETTO:-0600
TZNAME:MDT
DTSTART:20260308T090000
END:DAYLIGHT
BEGIN:STANDARD
TZOFFSETFROM:-0600
TZOFFSETTO:-0700
TZNAME:MST
DTSTART:20261101T080000
END:STANDARD
END:VTIMEZONE
BEGIN:VEVENT
DTSTART;TZID=America/Denver:20251114T170000
DTEND;TZID=America/Denver:20251114T193000
DTSTAMP:20260423T204832
CREATED:20251103T210625Z
LAST-MODIFIED:20251103T210625Z
UID:309-1763139600-1763148600@ourayelks.org
SUMMARY:Friday Night Dinner
DESCRIPTION:5:00 Cocktails \n6:00 Dinner
URL:https://ourayelks.org/event/friday-night-dinner-2/
LOCATION:Ouray Elks Lodge #492\, 421 Main Street\, Ouray\, CO\, 81427\, United States
CATEGORIES:Friday Night Dinner
END:VEVENT
BEGIN:VEVENT
DTSTART;TZID=America/Denver:20251108T170000
DTEND;TZID=America/Denver:20251108T210000
DTSTAMP:20260423T204832
CREATED:20251103T205943Z
LAST-MODIFIED:20251103T205943Z
UID:302-1762621200-1762635600@ourayelks.org
SUMMARY:Veterans Dinner & Turkey Bingo
DESCRIPTION:Doors open at 5:00pm \nDinner starts at 5:30pm (Veterans eat FREE!) \nAdults $12\, Kids 6-12 $6\, 5 & under free\, Families of Four $30.00 \n  \nTurkey Bingo starts at 7:00pm \n$10 for Ten Games \nPrizes are a frozen turkey and sides
URL:https://ourayelks.org/event/veterans-dinner-turkey-bingo/
LOCATION:Ouray Elks Lodge #492\, 421 Main Street\, Ouray\, CO\, 81427\, United States
CATEGORIES:Food,Veterans
END:VEVENT
BEGIN:VEVENT
DTSTART;TZID=America/Denver:20251024T180000
DTEND;TZID=America/Denver:20251024T210000
DTSTAMP:20260423T204832
CREATED:20250925T171505Z
LAST-MODIFIED:20250925T172103Z
UID:168-1761328800-1761339600@ourayelks.org
SUMMARY:Chili Cook Off ENF Fundraiser
DESCRIPTION:Please contact Susan or Jill if you want to judge \n  \nFree to Enter \nProceeds go to ENF \n 
URL:https://ourayelks.org/event/chili-cook-off-enf-fundraiser/
LOCATION:Ouray Elks Lodge #492\, 421 Main Street\, Ouray\, CO\, 81427\, United States
CATEGORIES:Food,Fundraiser
ATTACH;FMTTYPE=image/webp:https://ourayelks.org/wp-content/uploads/2025/09/Chili-Cook-Off-Flyer.webp
ORGANIZER;CN="Susan Winton":MAILTO:wintoncolorado@gmail.com
END:VEVENT
BEGIN:VEVENT
DTSTART;TZID=America/Denver:20251017T170000
DTEND;TZID=America/Denver:20251017T200000
DTSTAMP:20260423T204832
CREATED:20250929T192354Z
LAST-MODIFIED:20250929T193714Z
UID:215-1760720400-1760731200@ourayelks.org
SUMMARY:Friday Night Dinner Oct 17\, 2025
DESCRIPTION:5:00 Cocktails \n6:00 Dinner
URL:https://ourayelks.org/event/friday-night-dinner-oct-17-2025/
LOCATION:Ouray Elks Lodge #492\, 421 Main Street\, Ouray\, CO\, 81427\, United States
CATEGORIES:Friday Night Dinner
END:VEVENT
BEGIN:VEVENT
DTSTART;TZID=America/Denver:20251010T170000
DTEND;TZID=America/Denver:20251010T200000
DTSTAMP:20260423T204832
CREATED:20250929T192026Z
LAST-MODIFIED:20250929T192026Z
UID:209-1760115600-1760126400@ourayelks.org
SUMMARY:Friday Night Dinner Oct 10\, 2025
DESCRIPTION:5:00 Cocktails \n6:00 Dinner
URL:https://ourayelks.org/event/friday-night-dinner-oct-10-2025/
LOCATION:Ouray Elks Lodge #492\, 421 Main Street\, Ouray\, CO\, 81427\, United States
CATEGORIES:Friday Night Dinner
END:VEVENT
BEGIN:VEVENT
DTSTART;TZID=America/Denver:20251003T170000
DTEND;TZID=America/Denver:20251003T200000
DTSTAMP:20260423T204832
CREATED:20250929T191501Z
LAST-MODIFIED:20250929T191552Z
UID:203-1759510800-1759521600@ourayelks.org
SUMMARY:Friday Night Dinner Oct 3\, 2025
DESCRIPTION:5:00 Cocktails \n6:00 Dinner
URL:https://ourayelks.org/event/friday-night-dinner-oct-3-2025/
LOCATION:Ouray Elks Lodge #492\, 421 Main Street\, Ouray\, CO\, 81427\, United States
CATEGORIES:Friday Night Dinner
END:VEVENT
BEGIN:VEVENT
DTSTART;TZID=America/Denver:20250926T170000
DTEND;TZID=America/Denver:20250926T200000
DTSTAMP:20260423T204832
CREATED:20250923T225805Z
LAST-MODIFIED:20250923T225805Z
UID:143-1758906000-1758916800@ourayelks.org
SUMMARY:Friday Night Dinner
DESCRIPTION:PLEASE JOIN US\n\n\n\n\n\n\n\n\nOuray Elks\n\n\n\n\n\n\n\n\n#492\n\n\n\n\n\n\n\n\nFOR A\n\n\n\n\n\n\n\n\nVERY SPECIAL\n\n\n\n\n\n\n\n\nMembership Appreciation\n\n\n\n\n\n\n\n\nFriday Night Dinner\n\n5:00 Cocktails\n6:00 Dinner\n\n\n\n\n\nDelicious BBQ Ribeye Steak\n\n\n\n\n\n\n\n\nHomemade Salad\n\n\n\n\n\n\n\n\nFresh Corn on The Cob\n\n\n\n\n\n\n\n\nLoaded Baked Potatoes\n\n\n\n\n\n\n\n\nFancy Chocolate Dessert
URL:https://ourayelks.org/event/friday-night-dinner/
LOCATION:Ouray Elks Lodge #492\, 421 Main Street\, Ouray\, CO\, 81427\, United States
CATEGORIES:Friday Night Dinner
END:VEVENT
END:VCALENDAR