BEGIN:VCALENDAR
VERSION:2.0
PRODID:-//Ouray Elks Lodge #492 - ECPv6.15.20//NONSGML v1.0//EN
CALSCALE:GREGORIAN
METHOD:PUBLISH
X-ORIGINAL-URL:https://ourayelks.org
X-WR-CALDESC:Events for Ouray Elks Lodge #492
REFRESH-INTERVAL;VALUE=DURATION:PT1H
X-Robots-Tag:noindex
X-PUBLISHED-TTL:PT1H
BEGIN:VTIMEZONE
TZID:America/Denver
BEGIN:DAYLIGHT
TZOFFSETFROM:-0700
TZOFFSETTO:-0600
TZNAME:MDT
DTSTART:20240310T090000
END:DAYLIGHT
BEGIN:STANDARD
TZOFFSETFROM:-0600
TZOFFSETTO:-0700
TZNAME:MST
DTSTART:20241103T080000
END:STANDARD
BEGIN:DAYLIGHT
TZOFFSETFROM:-0700
TZOFFSETTO:-0600
TZNAME:MDT
DTSTART:20250309T090000
END:DAYLIGHT
BEGIN:STANDARD
TZOFFSETFROM:-0600
TZOFFSETTO:-0700
TZNAME:MST
DTSTART:20251102T080000
END:STANDARD
BEGIN:DAYLIGHT
TZOFFSETFROM:-0700
TZOFFSETTO:-0600
TZNAME:MDT
DTSTART:20260308T090000
END:DAYLIGHT
BEGIN:STANDARD
TZOFFSETFROM:-0600
TZOFFSETTO:-0700
TZNAME:MST
DTSTART:20261101T080000
END:STANDARD
BEGIN:DAYLIGHT
TZOFFSETFROM:-0700
TZOFFSETTO:-0600
TZNAME:MDT
DTSTART:20270314T090000
END:DAYLIGHT
BEGIN:STANDARD
TZOFFSETFROM:-0600
TZOFFSETTO:-0700
TZNAME:MST
DTSTART:20271107T080000
END:STANDARD
END:VTIMEZONE
BEGIN:VEVENT
DTSTART;TZID=America/Denver:20260411T180000
DTEND;TZID=America/Denver:20260411T210000
DTSTAMP:20260423T145345
CREATED:20260403T190429Z
LAST-MODIFIED:20260403T190429Z
UID:569-1775930400-1775941200@ourayelks.org
SUMMARY:Karaoke
DESCRIPTION:6:00 Cocktails \n7:00 Karaoke
URL:https://ourayelks.org/event/karaoke-3/
LOCATION:Ouray Elks Lodge #492\, 421 Main Street\, Ouray\, CO\, 81427\, United States
CATEGORIES:Karaoke
ATTACH;FMTTYPE=image/webp:https://ourayelks.org/wp-content/uploads/2025/09/360_F_469607733_EFcdrSDV4vvX7f1euse3yxOw0l6CiE5s.webp
END:VEVENT
BEGIN:VEVENT
DTSTART;TZID=America/Denver:20260328T180000
DTEND;TZID=America/Denver:20260328T210000
DTSTAMP:20260423T145345
CREATED:20260309T214705Z
LAST-MODIFIED:20260309T214705Z
UID:549-1774720800-1774731600@ourayelks.org
SUMMARY:Karaoke - March 28th
DESCRIPTION:6:00 Cocktails \n7:00 Karaoke
URL:https://ourayelks.org/event/karaoke-march-28th/
LOCATION:Ouray Elks Lodge #492\, 421 Main Street\, Ouray\, CO\, 81427\, United States
CATEGORIES:Karaoke
ATTACH;FMTTYPE=image/webp:https://ourayelks.org/wp-content/uploads/2025/09/360_F_469607733_EFcdrSDV4vvX7f1euse3yxOw0l6CiE5s.webp
END:VEVENT
BEGIN:VEVENT
DTSTART;TZID=America/Denver:20260314T180000
DTEND;TZID=America/Denver:20260314T210000
DTSTAMP:20260423T145345
CREATED:20260309T214532Z
LAST-MODIFIED:20260309T214532Z
UID:547-1773511200-1773522000@ourayelks.org
SUMMARY:Karaoke March 14
DESCRIPTION:6:00 Cocktails \n7:00 Karaoke
URL:https://ourayelks.org/event/karaoke-march-14/
LOCATION:Ouray Elks Lodge #492\, 421 Main Street\, Ouray\, CO\, 81427\, United States
CATEGORIES:Karaoke
END:VEVENT
BEGIN:VEVENT
DTSTART;TZID=America/Denver:20260221T180000
DTEND;TZID=America/Denver:20260221T210000
DTSTAMP:20260423T145345
CREATED:20260202T033406Z
LAST-MODIFIED:20260202T033431Z
UID:506-1771696800-1771707600@ourayelks.org
SUMMARY:Karaoke - February 21st
DESCRIPTION:Cocktails – 6:00pm \nKaraoke – 7:00pm \n 
URL:https://ourayelks.org/event/karaoke-february-21st/
CATEGORIES:Karaoke
ATTACH;FMTTYPE=image/webp:https://ourayelks.org/wp-content/uploads/2025/09/360_F_469607733_EFcdrSDV4vvX7f1euse3yxOw0l6CiE5s.webp
END:VEVENT
BEGIN:VEVENT
DTSTART;TZID=America/Denver:20260207T180000
DTEND;TZID=America/Denver:20260207T210000
DTSTAMP:20260423T145345
CREATED:20260202T032950Z
LAST-MODIFIED:20260202T033014Z
UID:501-1770487200-1770498000@ourayelks.org
SUMMARY:Karaoke February 7th
DESCRIPTION:Cocktails 6:00pm \nKaraoke 7:00pm \n  \n 
URL:https://ourayelks.org/event/karaoke-february-7th/
LOCATION:Ouray Elks Lodge #492\, 421 Main Street\, Ouray\, CO\, 81427\, United States
CATEGORIES:Karaoke
ATTACH;FMTTYPE=image/webp:https://ourayelks.org/wp-content/uploads/2025/09/360_F_469607733_EFcdrSDV4vvX7f1euse3yxOw0l6CiE5s.webp
END:VEVENT
BEGIN:VEVENT
DTSTART;TZID=America/Denver:20260124T180000
DTEND;TZID=America/Denver:20260124T210000
DTSTAMP:20260423T145345
CREATED:20251229T210820Z
LAST-MODIFIED:20260124T203444Z
UID:384-1769277600-1769288400@ourayelks.org
SUMMARY:Cancelled - Karaoke - January 24th
DESCRIPTION:For members and guests only! \nCocktails 6:00pm \nKaraoke 7:00pm
URL:https://ourayelks.org/event/karaoke-january-24th/
LOCATION:Ouray Elks Lodge #492\, 421 Main Street\, Ouray\, CO\, 81427\, United States
CATEGORIES:Karaoke
END:VEVENT
BEGIN:VEVENT
DTSTART;TZID=America/Denver:20260110T180000
DTEND;TZID=America/Denver:20260110T210000
DTSTAMP:20260423T145345
CREATED:20251229T210626Z
LAST-MODIFIED:20251229T210626Z
UID:382-1768068000-1768078800@ourayelks.org
SUMMARY:Karaoke - January 10\, 2026
DESCRIPTION:For members and their guests! \n6:00 Cocktails \n7:00 Karaoke
URL:https://ourayelks.org/event/karaoke-january-10-2026/
LOCATION:Ouray Elks Lodge #492\, 421 Main Street\, Ouray\, CO\, 81427\, United States
CATEGORIES:Karaoke
END:VEVENT
BEGIN:VEVENT
DTSTART;TZID=America/Denver:20251122T180000
DTEND;TZID=America/Denver:20251122T210000
DTSTAMP:20260423T145345
CREATED:20251103T211005Z
LAST-MODIFIED:20251103T211005Z
UID:315-1763834400-1763845200@ourayelks.org
SUMMARY:Karaoke
DESCRIPTION:6:00 Cocktails \n7:00 Karaoke
URL:https://ourayelks.org/event/karaoke-2/
LOCATION:Ouray Elks Lodge #492\, 421 Main Street\, Ouray\, CO\, 81427\, United States
CATEGORIES:Karaoke
END:VEVENT
BEGIN:VEVENT
DTSTART;TZID=America/Denver:20251025T180000
DTEND;TZID=America/Denver:20251025T210000
DTSTAMP:20260423T145345
CREATED:20250929T193500Z
LAST-MODIFIED:20250929T194242Z
UID:228-1761415200-1761426000@ourayelks.org
SUMMARY:Karaoke October 25\, 2025
DESCRIPTION:Cocktails 6:00 \nKaraoke 7:00
URL:https://ourayelks.org/event/karaoke-october-25-2025/
LOCATION:Ouray Elks Lodge #492\, 421 Main Street\, Ouray\, CO\, 81427\, United States
CATEGORIES:Karaoke
ATTACH;FMTTYPE=image/webp:https://ourayelks.org/wp-content/uploads/2025/09/360_F_469607733_EFcdrSDV4vvX7f1euse3yxOw0l6CiE5s.webp
END:VEVENT
BEGIN:VEVENT
DTSTART;TZID=America/Denver:20250927T180000
DTEND;TZID=America/Denver:20250927T210000
DTSTAMP:20260423T145345
CREATED:20250919T215328Z
LAST-MODIFIED:20250919T215328Z
UID:135-1758996000-1759006800@ourayelks.org
SUMMARY:Karaoke
DESCRIPTION:Please join us for Karaoke every 2nd and 4th Saturday in the Club Room. \nCocktails 6:00 \nSinging 7:00 \n  \n 
URL:https://ourayelks.org/event/karaoke/
LOCATION:Ouray Elks Lodge #492\, 421 Main Street\, Ouray\, CO\, 81427\, United States
CATEGORIES:Karaoke
END:VEVENT
END:VCALENDAR