BEGIN:VCALENDAR
VERSION:2.0
PRODID:-//Ouray Elks Lodge #492 - ECPv6.15.20//NONSGML v1.0//EN
CALSCALE:GREGORIAN
METHOD:PUBLISH
X-ORIGINAL-URL:https://ourayelks.org
X-WR-CALDESC:Events for Ouray Elks Lodge #492
REFRESH-INTERVAL;VALUE=DURATION:PT1H
X-Robots-Tag:noindex
X-PUBLISHED-TTL:PT1H
BEGIN:VTIMEZONE
TZID:America/Denver
BEGIN:DAYLIGHT
TZOFFSETFROM:-0700
TZOFFSETTO:-0600
TZNAME:MDT
DTSTART:20240310T090000
END:DAYLIGHT
BEGIN:STANDARD
TZOFFSETFROM:-0600
TZOFFSETTO:-0700
TZNAME:MST
DTSTART:20241103T080000
END:STANDARD
BEGIN:DAYLIGHT
TZOFFSETFROM:-0700
TZOFFSETTO:-0600
TZNAME:MDT
DTSTART:20250309T090000
END:DAYLIGHT
BEGIN:STANDARD
TZOFFSETFROM:-0600
TZOFFSETTO:-0700
TZNAME:MST
DTSTART:20251102T080000
END:STANDARD
BEGIN:DAYLIGHT
TZOFFSETFROM:-0700
TZOFFSETTO:-0600
TZNAME:MDT
DTSTART:20260308T090000
END:DAYLIGHT
BEGIN:STANDARD
TZOFFSETFROM:-0600
TZOFFSETTO:-0700
TZNAME:MST
DTSTART:20261101T080000
END:STANDARD
BEGIN:DAYLIGHT
TZOFFSETFROM:-0700
TZOFFSETTO:-0600
TZNAME:MDT
DTSTART:20270314T090000
END:DAYLIGHT
BEGIN:STANDARD
TZOFFSETFROM:-0600
TZOFFSETTO:-0700
TZNAME:MST
DTSTART:20271107T080000
END:STANDARD
END:VTIMEZONE
BEGIN:VEVENT
DTSTART;TZID=America/Denver:20260409T183000
DTEND;TZID=America/Denver:20260409T200000
DTSTAMP:20260423T133205
CREATED:20260403T191928Z
LAST-MODIFIED:20260403T191928Z
UID:584-1775759400-1775764800@ourayelks.org
SUMMARY:Lodge Meeting @ 6:30pm
DESCRIPTION:
URL:https://ourayelks.org/event/lodge-meeting-630pm-4/
CATEGORIES:Elks Lodge Meeting
END:VEVENT
BEGIN:VEVENT
DTSTART;TZID=America/Denver:20260326T183000
DTEND;TZID=America/Denver:20260326T200000
DTSTAMP:20260423T133205
CREATED:20260309T215236Z
LAST-MODIFIED:20260309T215236Z
UID:559-1774549800-1774555200@ourayelks.org
SUMMARY:Lodge Meeting March 26th 6:30
DESCRIPTION:
URL:https://ourayelks.org/event/lodge-meeting-march-26th-630/
LOCATION:Ouray Elks Lodge #492\, 421 Main Street\, Ouray\, CO\, 81427\, United States
CATEGORIES:Elks Lodge Meeting
END:VEVENT
BEGIN:VEVENT
DTSTART;TZID=America/Denver:20260312T183000
DTEND;TZID=America/Denver:20260312T200000
DTSTAMP:20260423T133205
CREATED:20260309T214918Z
LAST-MODIFIED:20260309T214918Z
UID:553-1773340200-1773345600@ourayelks.org
SUMMARY:Elks Lodge Meeting 6:30pm
DESCRIPTION:
URL:https://ourayelks.org/event/elks-lodge-meeting-630pm/
LOCATION:Ouray Elks Lodge #492\, 421 Main Street\, Ouray\, CO\, 81427\, United States
CATEGORIES:Elks Lodge Meeting
END:VEVENT
BEGIN:VEVENT
DTSTART;TZID=America/Denver:20260310T173000
DTEND;TZID=America/Denver:20260310T190000
DTSTAMP:20260423T133205
CREATED:20260309T214818Z
LAST-MODIFIED:20260309T214818Z
UID:551-1773163800-1773169200@ourayelks.org
SUMMARY:Budget Meeting
DESCRIPTION:
URL:https://ourayelks.org/event/budget-meeting/
LOCATION:Ouray Elks Lodge #492\, 421 Main Street\, Ouray\, CO\, 81427\, United States
CATEGORIES:Elks Lodge Meeting
END:VEVENT
BEGIN:VEVENT
DTSTART;TZID=America/Denver:20260226T183000
DTEND;TZID=America/Denver:20260226T200000
DTSTAMP:20260423T133205
CREATED:20260202T034204Z
LAST-MODIFIED:20260202T034204Z
UID:515-1772130600-1772136000@ourayelks.org
SUMMARY:Lodge Meeting - 6:30pm
DESCRIPTION:
URL:https://ourayelks.org/event/lodge-meeting-630pm-3/
CATEGORIES:Elks Lodge Meeting
END:VEVENT
BEGIN:VEVENT
DTSTART;TZID=America/Denver:20260212T183000
DTEND;TZID=America/Denver:20260212T200000
DTSTAMP:20260423T133205
CREATED:20260202T034116Z
LAST-MODIFIED:20260202T034116Z
UID:513-1770921000-1770926400@ourayelks.org
SUMMARY:Lodge Meeting 6:30pm
DESCRIPTION:
URL:https://ourayelks.org/event/lodge-meeting-630pm-2/
CATEGORIES:Elks Lodge Meeting
END:VEVENT
BEGIN:VEVENT
DTSTART;TZID=America/Denver:20260127T160000
DTEND;TZID=America/Denver:20260127T170000
DTSTAMP:20260423T133205
CREATED:20260120T021121Z
LAST-MODIFIED:20260120T021121Z
UID:480-1769529600-1769533200@ourayelks.org
SUMMARY:Membership Meeting 4:00pm
DESCRIPTION:All members are welcome to attend!
URL:https://ourayelks.org/event/membership-meeting-400pm/
CATEGORIES:Membership Meeting
END:VEVENT
BEGIN:VEVENT
DTSTART;TZID=America/Denver:20260122T183000
DTEND;TZID=America/Denver:20260122T200000
DTSTAMP:20260423T133205
CREATED:20251229T211603Z
LAST-MODIFIED:20251229T211603Z
UID:396-1769106600-1769112000@ourayelks.org
SUMMARY:Lodge Meeting January 22\, 2026
DESCRIPTION:
URL:https://ourayelks.org/event/lodge-meeting-january-22-2026/
LOCATION:Ouray Elks Lodge #492\, 421 Main Street\, Ouray\, CO\, 81427\, United States
CATEGORIES:Elks Lodge Meeting
END:VEVENT
BEGIN:VEVENT
DTSTART;TZID=America/Denver:20260108T183000
DTEND;TZID=America/Denver:20260108T200000
DTSTAMP:20260423T133205
CREATED:20251229T211320Z
LAST-MODIFIED:20251229T211320Z
UID:390-1767897000-1767902400@ourayelks.org
SUMMARY:Lodge Meeting and Initiation January 8\, 2026
DESCRIPTION:
URL:https://ourayelks.org/event/lodge-meeting-and-initiation-january-8-2026/
CATEGORIES:Elks Lodge Meeting
END:VEVENT
BEGIN:VEVENT
DTSTART;TZID=America/Denver:20251211T183000
DTEND;TZID=America/Denver:20251211T200000
DTSTAMP:20260423T133205
CREATED:20251129T185849Z
LAST-MODIFIED:20251129T232437Z
UID:370-1765477800-1765483200@ourayelks.org
SUMMARY:Lodge Meeting
DESCRIPTION:
URL:https://ourayelks.org/event/lodge-meeting/
CATEGORIES:Elks Lodge Meeting
END:VEVENT
BEGIN:VEVENT
DTSTART;TZID=America/Denver:20251113T183000
DTEND;TZID=America/Denver:20251113T200000
DTSTAMP:20260423T133205
CREATED:20251103T210505Z
LAST-MODIFIED:20251103T210505Z
UID:307-1763058600-1763064000@ourayelks.org
SUMMARY:Lodge Meeting @ 6:30pm
DESCRIPTION:
URL:https://ourayelks.org/event/lodge-meeting-630pm/
LOCATION:Ouray Elks Lodge #492\, 421 Main Street\, Ouray\, CO\, 81427\, United States
CATEGORIES:Elks Lodge Meeting
END:VEVENT
BEGIN:VEVENT
DTSTART;TZID=America/Denver:20251023T183000
DTEND;TZID=America/Denver:20251023T193000
DTSTAMP:20260423T133205
CREATED:20250929T193342Z
LAST-MODIFIED:20250929T193342Z
UID:226-1761244200-1761247800@ourayelks.org
SUMMARY:Lodge Meeting Oct 23\, 2025 6:30pm
DESCRIPTION:
URL:https://ourayelks.org/event/lodge-meeting-oct-23-2025-630pm/
LOCATION:Ouray Elks Lodge #492\, 421 Main Street\, Ouray\, CO\, 81427\, United States
CATEGORIES:Elks Lodge Meeting
END:VEVENT
BEGIN:VEVENT
DTSTART;TZID=America/Denver:20251021T170000
DTEND;TZID=America/Denver:20251021T180000
DTSTAMP:20260423T133205
CREATED:20250929T192608Z
LAST-MODIFIED:20250929T192608Z
UID:217-1761066000-1761069600@ourayelks.org
SUMMARY:Membership Meeting Oct 21\, 2025
DESCRIPTION:Membership meeting with bunco to follow at 6:00pm.
URL:https://ourayelks.org/event/membership-meeting-oct-21-2025/
LOCATION:Ouray Elks Lodge #492\, 421 Main Street\, Ouray\, CO\, 81427\, United States
CATEGORIES:Membership Meeting
END:VEVENT
BEGIN:VEVENT
DTSTART;TZID=America/Denver:20251006T170000
DTEND;TZID=America/Denver:20251006T170000
DTSTAMP:20260423T133205
CREATED:20250929T191742Z
LAST-MODIFIED:20250929T191742Z
UID:205-1759770000-1759770000@ourayelks.org
SUMMARY:House Committee Meeting Oct 6\, 2025
DESCRIPTION:
URL:https://ourayelks.org/event/house-committee-meeting-oct-6-2025/
CATEGORIES:House Committee Meeting
END:VEVENT
BEGIN:VEVENT
DTSTART;TZID=America/Denver:20250925T183000
DTEND;TZID=America/Denver:20250925T193000
DTSTAMP:20260423T133205
CREATED:20250919T083118Z
LAST-MODIFIED:20250919T214520Z
UID:92-1758825000-1758828600@ourayelks.org
SUMMARY:Lodge Meeting 6:30 pm
DESCRIPTION:Please join us for our regular meeting.
URL:https://ourayelks.org/event/lodge-meeting-630-pm/
LOCATION:Ouray Elks Lodge #492\, 421 Main Street\, Ouray\, CO\, 81427\, United States
CATEGORIES:Elks Lodge Meeting
END:VEVENT
BEGIN:VEVENT
DTSTART;TZID=America/Denver:20250923T170000
DTEND;TZID=America/Denver:20250923T180000
DTSTAMP:20260423T133205
CREATED:20250922T175743Z
LAST-MODIFIED:20250922T175743Z
UID:141-1758646800-1758650400@ourayelks.org
SUMMARY:House Committee Meeting September 23 5:00pm
DESCRIPTION:Members only.
URL:https://ourayelks.org/event/house-committee-meeting-september-23-500pm/
LOCATION:Ouray Elks Lodge #492\, 421 Main Street\, Ouray\, CO\, 81427\, United States
CATEGORIES:House Committee Meeting
END:VEVENT
END:VCALENDAR