BEGIN:VCALENDAR
VERSION:2.0
PRODID:-//Ouray Elks Lodge #492 - ECPv6.15.20//NONSGML v1.0//EN
CALSCALE:GREGORIAN
METHOD:PUBLISH
X-WR-CALNAME:Ouray Elks Lodge #492
X-ORIGINAL-URL:https://ourayelks.org
X-WR-CALDESC:Events for Ouray Elks Lodge #492
REFRESH-INTERVAL;VALUE=DURATION:PT1H
X-Robots-Tag:noindex
X-PUBLISHED-TTL:PT1H
BEGIN:VTIMEZONE
TZID:America/Denver
BEGIN:DAYLIGHT
TZOFFSETFROM:-0700
TZOFFSETTO:-0600
TZNAME:MDT
DTSTART:20250309T090000
END:DAYLIGHT
BEGIN:STANDARD
TZOFFSETFROM:-0600
TZOFFSETTO:-0700
TZNAME:MST
DTSTART:20251102T080000
END:STANDARD
BEGIN:DAYLIGHT
TZOFFSETFROM:-0700
TZOFFSETTO:-0600
TZNAME:MDT
DTSTART:20260308T090000
END:DAYLIGHT
BEGIN:STANDARD
TZOFFSETFROM:-0600
TZOFFSETTO:-0700
TZNAME:MST
DTSTART:20261101T080000
END:STANDARD
BEGIN:DAYLIGHT
TZOFFSETFROM:-0700
TZOFFSETTO:-0600
TZNAME:MDT
DTSTART:20270314T090000
END:DAYLIGHT
BEGIN:STANDARD
TZOFFSETFROM:-0600
TZOFFSETTO:-0700
TZNAME:MST
DTSTART:20271107T080000
END:STANDARD
END:VTIMEZONE
BEGIN:VEVENT
DTSTART;TZID=America/Denver:20260312T183000
DTEND;TZID=America/Denver:20260312T200000
DTSTAMP:20260423T164530
CREATED:20260309T214918Z
LAST-MODIFIED:20260309T214918Z
UID:553-1773340200-1773345600@ourayelks.org
SUMMARY:Elks Lodge Meeting 6:30pm
DESCRIPTION:
URL:https://ourayelks.org/event/elks-lodge-meeting-630pm/
LOCATION:Ouray Elks Lodge #492\, 421 Main Street\, Ouray\, CO\, 81427\, United States
CATEGORIES:Elks Lodge Meeting
END:VEVENT
BEGIN:VEVENT
DTSTART;TZID=America/Denver:20260310T180000
DTEND;TZID=America/Denver:20260310T210000
DTSTAMP:20260423T164530
CREATED:20260112T051011Z
LAST-MODIFIED:20260123T230513Z
UID:447-1773165600-1773176400@ourayelks.org
SUMMARY:Bowling Team 3 v 5
DESCRIPTION:Team 1-Gutter Snipers \nTeam 2-Randy and the Rollers \nTeam 3-Lucky Strikes \nTeam 4-The Pards \nTeam 5-Gutter Balls \nTeam 6-The Bowling Jobs
URL:https://ourayelks.org/event/bowling-team-3-v-5-3/
CATEGORIES:Bowling
END:VEVENT
BEGIN:VEVENT
DTSTART;TZID=America/Denver:20260310T173000
DTEND;TZID=America/Denver:20260310T190000
DTSTAMP:20260423T164530
CREATED:20260309T214818Z
LAST-MODIFIED:20260309T214818Z
UID:551-1773163800-1773169200@ourayelks.org
SUMMARY:Budget Meeting
DESCRIPTION:
URL:https://ourayelks.org/event/budget-meeting/
LOCATION:Ouray Elks Lodge #492\, 421 Main Street\, Ouray\, CO\, 81427\, United States
CATEGORIES:Elks Lodge Meeting
END:VEVENT
BEGIN:VEVENT
DTSTART;TZID=America/Denver:20260310T100000
DTEND;TZID=America/Denver:20260310T120000
DTSTAMP:20260423T164530
CREATED:20260309T215556Z
LAST-MODIFIED:20260309T215556Z
UID:563-1773136800-1773144000@ourayelks.org
SUMMARY:Veterans Coffee - Welcome Home Alliance for Veterans
DESCRIPTION:Welcome Home Alliance for Veterans \nRidgway Coffee and Pastries \n2nd Tuesday of every month 10:00 am – 12:00 pm \nSherbino Theater 604 Clinton St.\, Ridgway\, CO 81432 \nOnly Veterans. If you haven’t registered for your veteran ID tag\, please bring your DD214 or a military ID. No family\, no friends\, no soliciting\, no agendas\, this is for veterans only.
URL:https://ourayelks.org/event/veterans-coffee-welcome-home-alliance-for-veterans-3/
LOCATION:Sherbino Theater\, 604 Clinton St\, Ridgway\, CO\, 81432\, United States
CATEGORIES:Veterans
ATTACH;FMTTYPE=image/webp:https://ourayelks.org/wp-content/uploads/2025/09/360_F_179283479_kBGNwO0HmuTgfVKDXmQltNLE6Pj3r0QS.webp
END:VEVENT
BEGIN:VEVENT
DTSTART;TZID=America/Denver:20260309T180000
DTEND;TZID=America/Denver:20260309T210000
DTSTAMP:20260423T164530
CREATED:20260112T050924Z
LAST-MODIFIED:20260123T230538Z
UID:445-1773079200-1773090000@ourayelks.org
SUMMARY:Bowling Team 2 v 6
DESCRIPTION:Team 1-Gutter Snipers \nTeam 2-Randy and the Rollers \nTeam 3-Lucky Strikes \nTeam 4-The Pards \nTeam 5-Gutter Balls \nTeam 6-The Bowling Jobs
URL:https://ourayelks.org/event/bowling-team-2-v-6-3/
CATEGORIES:Bowling
END:VEVENT
BEGIN:VEVENT
DTSTART;TZID=America/Denver:20260306T180000
DTEND;TZID=America/Denver:20260306T210000
DTSTAMP:20260423T164530
CREATED:20260112T050840Z
LAST-MODIFIED:20260123T230605Z
UID:443-1772820000-1772830800@ourayelks.org
SUMMARY:Bowling Team 2 v 4
DESCRIPTION:Team 1-Gutter Snipers \nTeam 2-Randy and the Rollers \nTeam 3-Lucky Strikes \nTeam 4-The Pards \nTeam 5-Gutter Balls \nTeam 6-The Bowling Jobs
URL:https://ourayelks.org/event/bowling-team-2-v-4-3/
CATEGORIES:Bowling
END:VEVENT
BEGIN:VEVENT
DTSTART;TZID=America/Denver:20260303T180000
DTEND;TZID=America/Denver:20260303T210000
DTSTAMP:20260423T164530
CREATED:20260112T050754Z
LAST-MODIFIED:20260123T230632Z
UID:441-1772560800-1772571600@ourayelks.org
SUMMARY:Bowling Team 5 v 6
DESCRIPTION:Team 1-Gutter Snipers \nTeam 2-Randy and the Rollers \nTeam 3-Lucky Strikes \nTeam 4-The Pards \nTeam 5-Gutter Balls \nTeam 6-The Bowling Jobs
URL:https://ourayelks.org/event/bowling-team-5-v-6-3/
CATEGORIES:Bowling
END:VEVENT
BEGIN:VEVENT
DTSTART;TZID=America/Denver:20260302T180000
DTEND;TZID=America/Denver:20260302T210000
DTSTAMP:20260423T164530
CREATED:20260112T050710Z
LAST-MODIFIED:20260123T230700Z
UID:439-1772474400-1772485200@ourayelks.org
SUMMARY:Bowling Team 1 v 3
DESCRIPTION:Team 1-Gutter Snipers \nTeam 2-Randy and the Rollers \nTeam 3-Lucky Strikes \nTeam 4-The Pards \nTeam 5-Gutter Balls \nTeam 6-The Bowling Jobs
URL:https://ourayelks.org/event/bowling-team-1-v-3-3/
CATEGORIES:Bowling
END:VEVENT
BEGIN:VEVENT
DTSTART;TZID=America/Denver:20260228T170000
DTEND;TZID=America/Denver:20260228T220000
DTSTAMP:20260423T164530
CREATED:20260202T033723Z
LAST-MODIFIED:20260205T010023Z
UID:508-1772298000-1772316000@ourayelks.org
SUMMARY:Mardi Gras Party - February 28th (Open to the Public)
DESCRIPTION:Cocktails 5:00pm \nDinner 6:00pm \nLive Music 7:00pm \n  \n 
URL:https://ourayelks.org/event/mardi-gras-party-february-28th-open-to-the-public/
LOCATION:Ouray Elks Lodge #492\, 421 Main Street\, Ouray\, CO\, 81427\, United States
CATEGORIES:Food
ATTACH;FMTTYPE=image/webp:https://ourayelks.org/wp-content/uploads/2026/02/Screenshot-2026-02-04-at-5.54.48-PM.webp
END:VEVENT
BEGIN:VEVENT
DTSTART;TZID=America/Denver:20260227T180000
DTEND;TZID=America/Denver:20260227T210000
DTSTAMP:20260423T164530
CREATED:20260112T050620Z
LAST-MODIFIED:20260123T230729Z
UID:437-1772215200-1772226000@ourayelks.org
SUMMARY:Bowling Team 1 v 5
DESCRIPTION:Team 1-Gutter Snipers \nTeam 2-Randy and the Rollers \nTeam 3-Lucky Strikes \nTeam 4-The Pards \nTeam 5-Gutter Balls \nTeam 6-The Bowling Jobs
URL:https://ourayelks.org/event/bowling-team-1-v-5-2/
CATEGORIES:Bowling
END:VEVENT
BEGIN:VEVENT
DTSTART;TZID=America/Denver:20260227T170000
DTEND;TZID=America/Denver:20260227T200000
DTSTAMP:20260423T164530
CREATED:20260202T034549Z
LAST-MODIFIED:20260225T205041Z
UID:523-1772211600-1772222400@ourayelks.org
SUMMARY:NO Friday Night Dinner
DESCRIPTION:Please join us Mardi Gras Party on Saturday!
URL:https://ourayelks.org/event/friday-night-dinner-8/
CATEGORIES:Friday Night Dinner
END:VEVENT
BEGIN:VEVENT
DTSTART;TZID=America/Denver:20260226T183000
DTEND;TZID=America/Denver:20260226T200000
DTSTAMP:20260423T164530
CREATED:20260202T034204Z
LAST-MODIFIED:20260202T034204Z
UID:515-1772130600-1772136000@ourayelks.org
SUMMARY:Lodge Meeting - 6:30pm
DESCRIPTION:
URL:https://ourayelks.org/event/lodge-meeting-630pm-3/
CATEGORIES:Elks Lodge Meeting
END:VEVENT
BEGIN:VEVENT
DTSTART;TZID=America/Denver:20260224T180000
DTEND;TZID=America/Denver:20260224T210000
DTSTAMP:20260423T164530
CREATED:20260112T050534Z
LAST-MODIFIED:20260123T230802Z
UID:435-1771956000-1771966800@ourayelks.org
SUMMARY:Bowling Team 4 v 6
DESCRIPTION:Team 1-Gutter Snipers \nTeam 2-Randy and the Rollers \nTeam 3-Lucky Strikes \nTeam 4-The Pards \nTeam 5-Gutter Balls \nTeam 6-The Bowling Jobs
URL:https://ourayelks.org/event/bowling-team-4-v-6-2/
CATEGORIES:Bowling
END:VEVENT
BEGIN:VEVENT
DTSTART;TZID=America/Denver:20260223T180000
DTEND;TZID=America/Denver:20260223T210000
DTSTAMP:20260423T164530
CREATED:20260112T050453Z
LAST-MODIFIED:20260123T230827Z
UID:433-1771869600-1771880400@ourayelks.org
SUMMARY:Bowling Team 2 v 3
DESCRIPTION:Team 1-Gutter Snipers \nTeam 2-Randy and the Rollers \nTeam 3-Lucky Strikes \nTeam 4-The Pards \nTeam 5-Gutter Balls \nTeam 6-The Bowling Jobs
URL:https://ourayelks.org/event/bowling-team-2-v-3-2/
CATEGORIES:Bowling
END:VEVENT
BEGIN:VEVENT
DTSTART;TZID=America/Denver:20260221T180000
DTEND;TZID=America/Denver:20260221T210000
DTSTAMP:20260423T164530
CREATED:20260202T033406Z
LAST-MODIFIED:20260202T033431Z
UID:506-1771696800-1771707600@ourayelks.org
SUMMARY:Karaoke - February 21st
DESCRIPTION:Cocktails – 6:00pm \nKaraoke – 7:00pm \n 
URL:https://ourayelks.org/event/karaoke-february-21st/
CATEGORIES:Karaoke
ATTACH;FMTTYPE=image/webp:https://ourayelks.org/wp-content/uploads/2025/09/360_F_469607733_EFcdrSDV4vvX7f1euse3yxOw0l6CiE5s.webp
END:VEVENT
BEGIN:VEVENT
DTSTART;TZID=America/Denver:20260220T180000
DTEND;TZID=America/Denver:20260220T210000
DTSTAMP:20260423T164530
CREATED:20260112T050408Z
LAST-MODIFIED:20260123T230850Z
UID:431-1771610400-1771621200@ourayelks.org
SUMMARY:Bowling Team 2 v 5
DESCRIPTION:Team 1-Gutter Snipers \nTeam 2-Randy and the Rollers \nTeam 3-Lucky Strikes \nTeam 4-The Pards \nTeam 5-Gutter Balls \nTeam 6-The Bowling Jobs
URL:https://ourayelks.org/event/bowling-team-2-v-5-3/
CATEGORIES:Bowling
END:VEVENT
BEGIN:VEVENT
DTSTART;TZID=America/Denver:20260220T170000
DTEND;TZID=America/Denver:20260220T200000
DTSTAMP:20260423T164530
CREATED:20260202T034450Z
LAST-MODIFIED:20260202T034450Z
UID:521-1771606800-1771617600@ourayelks.org
SUMMARY:Friday Night Dinner
DESCRIPTION:Cocktails – 5:00pm \nDinner – 6:00pm
URL:https://ourayelks.org/event/friday-night-dinner-7/
CATEGORIES:Friday Night Dinner
END:VEVENT
BEGIN:VEVENT
DTSTART;TZID=America/Denver:20260217T183000
DTEND;TZID=America/Denver:20260217T210000
DTSTAMP:20260423T164530
CREATED:20260202T032654Z
LAST-MODIFIED:20260202T032654Z
UID:499-1771353000-1771362000@ourayelks.org
SUMMARY:Bunco February 17th @ 6:30
DESCRIPTION:Cocktails 6:30pm\nBunco 7:00pm
URL:https://ourayelks.org/event/bunco-february-17th-630/
END:VEVENT
BEGIN:VEVENT
DTSTART;TZID=America/Denver:20260217T180000
DTEND;TZID=America/Denver:20260217T210000
DTSTAMP:20260423T164530
CREATED:20260112T050322Z
LAST-MODIFIED:20260123T230919Z
UID:429-1771351200-1771362000@ourayelks.org
SUMMARY:Bowling Team 3 v 4
DESCRIPTION:Team 1-Gutter Snipers \nTeam 2-Randy and the Rollers \nTeam 3-Lucky Strikes \nTeam 4-The Pards \nTeam 5-Gutter Balls \nTeam 6-The Bowling Jobs
URL:https://ourayelks.org/event/bowling-team-3-v-4-3/
CATEGORIES:Bowling
END:VEVENT
BEGIN:VEVENT
DTSTART;TZID=America/Denver:20260216T180000
DTEND;TZID=America/Denver:20260216T210000
DTSTAMP:20260423T164530
CREATED:20260112T050240Z
LAST-MODIFIED:20260123T230949Z
UID:427-1771264800-1771275600@ourayelks.org
SUMMARY:Bowling Team 1 v 6
DESCRIPTION:Team 1-Gutter Snipers \nTeam 2-Randy and the Rollers \nTeam 3-Lucky Strikes \nTeam 4-The Pards \nTeam 5-Gutter Balls \nTeam 6-The Bowling Jobs
URL:https://ourayelks.org/event/bowling-team-1-v-6-4/
CATEGORIES:Bowling
END:VEVENT
BEGIN:VEVENT
DTSTART;TZID=America/Denver:20260214T170000
DTEND;TZID=America/Denver:20260214T200000
DTSTAMP:20260423T164530
CREATED:20260202T032216Z
LAST-MODIFIED:20260202T034654Z
UID:496-1771088400-1771099200@ourayelks.org
SUMMARY:Valentine's Day Dinner - Feb 14 (Limited RSVP's)
DESCRIPTION:Members only – NO Guests \n5:00 Cocktails \n6:00 Dinner \n 
URL:https://ourayelks.org/event/valentines-day-dinner-feb-14/
LOCATION:Ouray Elks Lodge #492\, 421 Main Street\, Ouray\, CO\, 81427\, United States
END:VEVENT
BEGIN:VEVENT
DTSTART;TZID=America/Denver:20260213T180000
DTEND;TZID=America/Denver:20260213T210000
DTSTAMP:20260423T164530
CREATED:20260112T050153Z
LAST-MODIFIED:20260123T231021Z
UID:425-1771005600-1771016400@ourayelks.org
SUMMARY:Bowling Team 4 v 5
DESCRIPTION:Team 1-Gutter Snipers \nTeam 2-Randy and the Rollers \nTeam 3-Lucky Strikes \nTeam 4-The Pards \nTeam 5-Gutter Balls \nTeam 6-The Bowling Jobs
URL:https://ourayelks.org/event/bowling-team-4-v-5-2/
CATEGORIES:Bowling
END:VEVENT
BEGIN:VEVENT
DTSTART;TZID=America/Denver:20260213T000000
DTEND;TZID=America/Denver:20260213T235959
DTSTAMP:20260423T164530
CREATED:20260202T034358Z
LAST-MODIFIED:20260202T034358Z
UID:519-1770940800-1771027199@ourayelks.org
SUMMARY:NO Friday Night Dinner
DESCRIPTION:
URL:https://ourayelks.org/event/no-friday-night-dinner-2/
CATEGORIES:Friday Night Dinner
END:VEVENT
BEGIN:VEVENT
DTSTART;TZID=America/Denver:20260212T183000
DTEND;TZID=America/Denver:20260212T200000
DTSTAMP:20260423T164530
CREATED:20260202T034116Z
LAST-MODIFIED:20260202T034116Z
UID:513-1770921000-1770926400@ourayelks.org
SUMMARY:Lodge Meeting 6:30pm
DESCRIPTION:
URL:https://ourayelks.org/event/lodge-meeting-630pm-2/
CATEGORIES:Elks Lodge Meeting
END:VEVENT
BEGIN:VEVENT
DTSTART;TZID=America/Denver:20260210T180000
DTEND;TZID=America/Denver:20260210T210000
DTSTAMP:20260423T164530
CREATED:20260112T050103Z
LAST-MODIFIED:20260123T231049Z
UID:423-1770746400-1770757200@ourayelks.org
SUMMARY:Bowling Team 1 v 2
DESCRIPTION:Team 1-Gutter Snipers \nTeam 2-Randy and the Rollers \nTeam 3-Lucky Strikes \nTeam 4-The Pards \nTeam 5-Gutter Balls \nTeam 6-The Bowling Jobs
URL:https://ourayelks.org/event/bowling-team-1-v-6-3/
CATEGORIES:Bowling
END:VEVENT
BEGIN:VEVENT
DTSTART;TZID=America/Denver:20260210T100000
DTEND;TZID=America/Denver:20260210T120000
DTSTAMP:20260423T164530
CREATED:20260202T034010Z
LAST-MODIFIED:20260202T034010Z
UID:511-1770717600-1770724800@ourayelks.org
SUMMARY:Veterans Coffee and Pastries
DESCRIPTION:Welcome Home Alliance for Veterans\nRidgway Coffee and Pastries\n2nd Tuesday of every month 10:00 am – 12:00 pm\nSherbino Theater 604 Clinton St.\, Ridgway\, CO 81432\nOnly Veterans. If you haven’t registered for your veteran ID tag\, please bring your DD214 or a military ID. No family\, no friends\, no soliciting\, no agendas\, this is for veterans only.
URL:https://ourayelks.org/event/veterans-coffee-and-pastries/
LOCATION:Sherbino Theater\, 604 Clinton St\, Ridgway\, CO\, 81432\, United States
CATEGORIES:Veterans
ATTACH;FMTTYPE=image/webp:https://ourayelks.org/wp-content/uploads/2025/09/360_F_179283479_kBGNwO0HmuTgfVKDXmQltNLE6Pj3r0QS.webp
END:VEVENT
BEGIN:VEVENT
DTSTART;TZID=America/Denver:20260209T180000
DTEND;TZID=America/Denver:20260209T210000
DTSTAMP:20260423T164530
CREATED:20260112T050018Z
LAST-MODIFIED:20260123T231120Z
UID:421-1770660000-1770670800@ourayelks.org
SUMMARY:Bowling Team 3 v 6
DESCRIPTION:Team 1-Gutter Snipers \nTeam 2-Randy and the Rollers \nTeam 3-Lucky Strikes \nTeam 4-The Pards \nTeam 5-Gutter Balls \nTeam 6-The Bowling Jobs
URL:https://ourayelks.org/event/bowling-team-3-v-6-2/
CATEGORIES:Bowling
END:VEVENT
BEGIN:VEVENT
DTSTART;TZID=America/Denver:20260208T150000
DTEND;TZID=America/Denver:20260208T193000
DTSTAMP:20260423T164530
CREATED:20260202T031942Z
LAST-MODIFIED:20260202T031942Z
UID:492-1770562800-1770579000@ourayelks.org
SUMMARY:Superbowl Party - 3pm
DESCRIPTION:Bring an appetizer to share!
URL:https://ourayelks.org/event/superbowl-party-3pm/
LOCATION:Ouray Elks Lodge #492\, 421 Main Street\, Ouray\, CO\, 81427\, United States
CATEGORIES:Food
ATTACH;FMTTYPE=image/jpeg:https://ourayelks.org/wp-content/uploads/2026/02/Superbowl.jpeg
END:VEVENT
BEGIN:VEVENT
DTSTART;TZID=America/Denver:20260207T180000
DTEND;TZID=America/Denver:20260207T210000
DTSTAMP:20260423T164530
CREATED:20260202T032950Z
LAST-MODIFIED:20260202T033014Z
UID:501-1770487200-1770498000@ourayelks.org
SUMMARY:Karaoke February 7th
DESCRIPTION:Cocktails 6:00pm \nKaraoke 7:00pm \n  \n 
URL:https://ourayelks.org/event/karaoke-february-7th/
LOCATION:Ouray Elks Lodge #492\, 421 Main Street\, Ouray\, CO\, 81427\, United States
CATEGORIES:Karaoke
ATTACH;FMTTYPE=image/webp:https://ourayelks.org/wp-content/uploads/2025/09/360_F_469607733_EFcdrSDV4vvX7f1euse3yxOw0l6CiE5s.webp
END:VEVENT
BEGIN:VEVENT
DTSTART;TZID=America/Denver:20260206T180000
DTEND;TZID=America/Denver:20260206T210000
DTSTAMP:20260423T164530
CREATED:20260112T045929Z
LAST-MODIFIED:20260123T231200Z
UID:419-1770400800-1770411600@ourayelks.org
SUMMARY:Bowling Team 1 v 4
DESCRIPTION:Team 1-Gutter Snipers \nTeam 2-Randy and the Rollers \nTeam 3-Lucky Strikes \nTeam 4-The Pards \nTeam 5-Gutter Balls \nTeam 6-The Bowling Jobs
URL:https://ourayelks.org/event/bowling-team-1-v-4-2/
CATEGORIES:Bowling
END:VEVENT
END:VCALENDAR