BEGIN:VCALENDAR
VERSION:2.0
PRODID:-//Ouray Elks Lodge #492 - ECPv6.15.20//NONSGML v1.0//EN
CALSCALE:GREGORIAN
METHOD:PUBLISH
X-WR-CALNAME:Ouray Elks Lodge #492
X-ORIGINAL-URL:https://ourayelks.org
X-WR-CALDESC:Events for Ouray Elks Lodge #492
REFRESH-INTERVAL;VALUE=DURATION:PT1H
X-Robots-Tag:noindex
X-PUBLISHED-TTL:PT1H
BEGIN:VTIMEZONE
TZID:America/Denver
BEGIN:DAYLIGHT
TZOFFSETFROM:-0700
TZOFFSETTO:-0600
TZNAME:MDT
DTSTART:20240310T090000
END:DAYLIGHT
BEGIN:STANDARD
TZOFFSETFROM:-0600
TZOFFSETTO:-0700
TZNAME:MST
DTSTART:20241103T080000
END:STANDARD
BEGIN:DAYLIGHT
TZOFFSETFROM:-0700
TZOFFSETTO:-0600
TZNAME:MDT
DTSTART:20250309T090000
END:DAYLIGHT
BEGIN:STANDARD
TZOFFSETFROM:-0600
TZOFFSETTO:-0700
TZNAME:MST
DTSTART:20251102T080000
END:STANDARD
BEGIN:DAYLIGHT
TZOFFSETFROM:-0700
TZOFFSETTO:-0600
TZNAME:MDT
DTSTART:20260308T090000
END:DAYLIGHT
BEGIN:STANDARD
TZOFFSETFROM:-0600
TZOFFSETTO:-0700
TZNAME:MST
DTSTART:20261101T080000
END:STANDARD
END:VTIMEZONE
BEGIN:VEVENT
DTSTART;TZID=America/Denver:20251109T100000
DTEND;TZID=America/Denver:20251109T130000
DTSTAMP:20260424T050024
CREATED:20251103T210351Z
LAST-MODIFIED:20251103T210351Z
UID:304-1762682400-1762693200@ourayelks.org
SUMMARY:Hoop Shoot - Ouray School Gym
DESCRIPTION:
URL:https://ourayelks.org/event/hoop-shoot-ouray-school-gym/
LOCATION:Ouray School\, Ouray\, 81427
CATEGORIES:Hoop Shoot
END:VEVENT
BEGIN:VEVENT
DTSTART;TZID=America/Denver:20251110T183000
DTEND;TZID=America/Denver:20251110T210000
DTSTAMP:20260424T050024
CREATED:20251003T020500Z
LAST-MODIFIED:20251003T020506Z
UID:277-1762799400-1762808400@ourayelks.org
SUMMARY:Bowling - team 2 v 7
DESCRIPTION:Teams: \n1 Pinheads \n2 Gutter Snipers \n3 Butter Hole Ballers \n4 Randy and the Rollers \n5 REM Stempe & The Hotties \n6 Lucky Strikes \n7 We Were Framed
URL:https://ourayelks.org/event/bowling-team-2-v-7/
CATEGORIES:Bowling
END:VEVENT
BEGIN:VEVENT
DTSTART;TZID=America/Denver:20251111T100000
DTEND;TZID=America/Denver:20251111T120000
DTSTAMP:20260424T050024
CREATED:20251103T212133Z
LAST-MODIFIED:20251103T212133Z
UID:328-1762855200-1762862400@ourayelks.org
SUMMARY:Veterans Coffee
DESCRIPTION:Only Veterans. If you haven’t registered for your veteran ID tag\, please bring your DD214 or a military ID. No family\, no friends\, no soliciting\, no agendas\, this is for veterans only.
URL:https://ourayelks.org/event/veterans-coffee-2/
LOCATION:Sherbino Theater\, 604 Clinton St\, Ridgway\, CO\, 81432\, United States
END:VEVENT
BEGIN:VEVENT
DTSTART;TZID=America/Denver:20251111T183000
DTEND;TZID=America/Denver:20251111T210000
DTSTAMP:20260424T050024
CREATED:20251003T020831Z
LAST-MODIFIED:20251003T020831Z
UID:279-1762885800-1762894800@ourayelks.org
SUMMARY:Bowling - team 4 v 6
DESCRIPTION:Teams: \n1 Pinheads \n2 Gutter Snipers \n3 Butter Hole Ballers \n4 Randy and the Rollers \n5 REM Stempe & The Hotties \n6 Lucky Strikes \n7 We Were Framed
URL:https://ourayelks.org/event/bowling-team-4-v-6/
CATEGORIES:Bowling
END:VEVENT
BEGIN:VEVENT
DTSTART;TZID=America/Denver:20251112T183000
DTEND;TZID=America/Denver:20251112T210000
DTSTAMP:20260424T050024
CREATED:20251003T020933Z
LAST-MODIFIED:20251003T020933Z
UID:281-1762972200-1762981200@ourayelks.org
SUMMARY:Bowling - team 1 v 3
DESCRIPTION:Teams: \n1 Pinheads \n2 Gutter Snipers \n3 Butter Hole Ballers \n4 Randy and the Rollers \n5 REM Stempe & The Hotties \n6 Lucky Strikes \n7 We Were Framed
URL:https://ourayelks.org/event/bowling-team-1-v-3/
CATEGORIES:Bowling
END:VEVENT
BEGIN:VEVENT
DTSTART;TZID=America/Denver:20251113T183000
DTEND;TZID=America/Denver:20251113T200000
DTSTAMP:20260424T050024
CREATED:20251103T210505Z
LAST-MODIFIED:20251103T210505Z
UID:307-1763058600-1763064000@ourayelks.org
SUMMARY:Lodge Meeting @ 6:30pm
DESCRIPTION:
URL:https://ourayelks.org/event/lodge-meeting-630pm/
LOCATION:Ouray Elks Lodge #492\, 421 Main Street\, Ouray\, CO\, 81427\, United States
CATEGORIES:Elks Lodge Meeting
END:VEVENT
BEGIN:VEVENT
DTSTART;TZID=America/Denver:20251114T170000
DTEND;TZID=America/Denver:20251114T193000
DTSTAMP:20260424T050024
CREATED:20251103T210625Z
LAST-MODIFIED:20251103T210625Z
UID:309-1763139600-1763148600@ourayelks.org
SUMMARY:Friday Night Dinner
DESCRIPTION:5:00 Cocktails \n6:00 Dinner
URL:https://ourayelks.org/event/friday-night-dinner-2/
LOCATION:Ouray Elks Lodge #492\, 421 Main Street\, Ouray\, CO\, 81427\, United States
CATEGORIES:Friday Night Dinner
END:VEVENT
BEGIN:VEVENT
DTSTART;TZID=America/Denver:20251117T183000
DTEND;TZID=America/Denver:20251117T210000
DTSTAMP:20260424T050024
CREATED:20251003T021037Z
LAST-MODIFIED:20251003T021037Z
UID:284-1763404200-1763413200@ourayelks.org
SUMMARY:Bowling - team 2 v 3
DESCRIPTION:Teams: \n1 Pinheads \n2 Gutter Snipers \n3 Butter Hole Ballers \n4 Randy and the Rollers \n5 REM Stempe & The Hotties \n6 Lucky Strikes \n7 We Were Framed
URL:https://ourayelks.org/event/bowling-team-2-v-3/
CATEGORIES:Bowling
END:VEVENT
BEGIN:VEVENT
DTSTART;TZID=America/Denver:20251118T180000
DTEND;TZID=America/Denver:20251118T200000
DTSTAMP:20260424T050024
CREATED:20251103T211829Z
LAST-MODIFIED:20251103T212359Z
UID:325-1763488800-1763496000@ourayelks.org
SUMMARY:Bunco
DESCRIPTION:6:00 Cocktails \n6:30 Bunco \n 
URL:https://ourayelks.org/event/bunco/
CATEGORIES:Bunco
END:VEVENT
BEGIN:VEVENT
DTSTART;TZID=America/Denver:20251118T183000
DTEND;TZID=America/Denver:20251118T210000
DTSTAMP:20260424T050024
CREATED:20251003T021132Z
LAST-MODIFIED:20251003T021132Z
UID:286-1763490600-1763499600@ourayelks.org
SUMMARY:Bowling - team 4 v 7
DESCRIPTION:Teams: \n1 Pinheads \n2 Gutter Snipers \n3 Butter Hole Ballers \n4 Randy and the Rollers \n5 REM Stempe & The Hotties \n6 Lucky Strikes \n7 We Were Framed
URL:https://ourayelks.org/event/bowling-team-4-v-7/
CATEGORIES:Bowling
END:VEVENT
BEGIN:VEVENT
DTSTART;TZID=America/Denver:20251119T183000
DTEND;TZID=America/Denver:20251119T210000
DTSTAMP:20260424T050024
CREATED:20251003T021302Z
LAST-MODIFIED:20251003T021302Z
UID:288-1763577000-1763586000@ourayelks.org
SUMMARY:Bowling - team 5 v 6
DESCRIPTION:Teams: \n1 Pinheads \n2 Gutter Snipers \n3 Butter Hole Ballers \n4 Randy and the Rollers \n5 REM Stempe & The Hotties \n6 Lucky Strikes \n7 We Were Framed
URL:https://ourayelks.org/event/bowling-team-5-v-6/
CATEGORIES:Bowling
END:VEVENT
BEGIN:VEVENT
DTSTART;TZID=America/Denver:20251120T170000
DTEND;TZID=America/Denver:20251120T190000
DTSTAMP:20260424T050024
CREATED:20251103T210740Z
LAST-MODIFIED:20251103T212002Z
UID:311-1763658000-1763665200@ourayelks.org
SUMMARY:Business After Hours Meetup - Sponsored by Ouray Chamber
DESCRIPTION:Free Refreshments \nFree Drawing \nAll are welcome- Come out and enjoy!
URL:https://ourayelks.org/event/business-after-hours-meetup/
LOCATION:Ouray Elks Lodge #492\, 421 Main Street\, Ouray\, CO\, 81427\, United States
END:VEVENT
BEGIN:VEVENT
DTSTART;TZID=America/Denver:20251120T190000
DTEND;TZID=America/Denver:20251120T190000
DTSTAMP:20260424T050024
CREATED:20251103T213151Z
LAST-MODIFIED:20251103T213151Z
UID:333-1763665200-1763665200@ourayelks.org
SUMMARY:eBike Raffle Drawing 7:00PM
DESCRIPTION:After the Business After Hours!
URL:https://ourayelks.org/event/ebike-raffle-drawing-700pm/
END:VEVENT
BEGIN:VEVENT
DTSTART;TZID=America/Denver:20251121T170000
DTEND;TZID=America/Denver:20251121T193000
DTSTAMP:20260424T050024
CREATED:20251103T210849Z
LAST-MODIFIED:20251103T211408Z
UID:313-1763744400-1763753400@ourayelks.org
SUMMARY:Community Thanksgiving Dinner
DESCRIPTION:5:00 Coctails \n6:00 Dinner
URL:https://ourayelks.org/event/friday-night-dinner-3/
LOCATION:Ouray Elks Lodge #492\, 421 Main Street\, Ouray\, CO\, 81427\, United States
CATEGORIES:Friday Night Dinner
END:VEVENT
BEGIN:VEVENT
DTSTART;TZID=America/Denver:20251122T180000
DTEND;TZID=America/Denver:20251122T210000
DTSTAMP:20260424T050024
CREATED:20251103T211005Z
LAST-MODIFIED:20251103T211005Z
UID:315-1763834400-1763845200@ourayelks.org
SUMMARY:Karaoke
DESCRIPTION:6:00 Cocktails \n7:00 Karaoke
URL:https://ourayelks.org/event/karaoke-2/
LOCATION:Ouray Elks Lodge #492\, 421 Main Street\, Ouray\, CO\, 81427\, United States
CATEGORIES:Karaoke
END:VEVENT
BEGIN:VEVENT
DTSTART;TZID=America/Denver:20251127T000000
DTEND;TZID=America/Denver:20251127T235959
DTSTAMP:20260424T050024
CREATED:20251103T211112Z
LAST-MODIFIED:20251103T211112Z
UID:317-1764201600-1764287999@ourayelks.org
SUMMARY:No Lodge Meeting - Happy Thanksgiving!
DESCRIPTION:
URL:https://ourayelks.org/event/no-lodge-meeting-happy-thanksgiving/
END:VEVENT
BEGIN:VEVENT
DTSTART;TZID=America/Denver:20251201T000000
DTEND;TZID=America/Denver:20251203T235959
DTSTAMP:20260424T050024
CREATED:20251003T021531Z
LAST-MODIFIED:20251129T185407Z
UID:290-1764547200-1764806399@ourayelks.org
SUMMARY:Bowling playoffs - TBD
DESCRIPTION:Dec 1 Team 1 v 4 \nDec 2 Team 2 v 3 \nDec 3 Team 6 v 7
URL:https://ourayelks.org/event/bowling-playoffs-tbd/
CATEGORIES:Bowling
END:VEVENT
BEGIN:VEVENT
DTSTART;TZID=America/Denver:20251205T000000
DTEND;TZID=America/Denver:20251205T235959
DTSTAMP:20260424T050024
CREATED:20251129T184239Z
LAST-MODIFIED:20251129T184239Z
UID:361-1764892800-1764979199@ourayelks.org
SUMMARY:No Friday Night Dinner - December 5th
DESCRIPTION:
URL:https://ourayelks.org/event/no-friday-night-dinner-december-5th/
CATEGORIES:Friday Night Dinner
END:VEVENT
BEGIN:VEVENT
DTSTART;TZID=America/Denver:20251206T000000
DTEND;TZID=America/Denver:20251206T235959
DTSTAMP:20260424T050024
CREATED:20251103T211513Z
LAST-MODIFIED:20251103T211513Z
UID:321-1764979200-1765065599@ourayelks.org
SUMMARY:Yule Night - In the Elks Park
DESCRIPTION:
URL:https://ourayelks.org/event/yule-night-in-the-elks-park/
LOCATION:Ouray Elks Lodge #492\, 421 Main Street\, Ouray\, CO\, 81427\, United States
CATEGORIES:Holiday
END:VEVENT
BEGIN:VEVENT
DTSTART;TZID=America/Denver:20251207T140000
DTEND;TZID=America/Denver:20251207T150000
DTSTAMP:20260424T050024
CREATED:20251129T182941Z
LAST-MODIFIED:20251129T182941Z
UID:351-1765116000-1765119600@ourayelks.org
SUMMARY:December 7\, 2025 - Elks Memorial Day
DESCRIPTION:Honoring Our Absent Members \nJoin us to celebrate our brothers and sister who have departed from this earth in 2025. \nEach year\, on the first Sunday in December\, Elks across the nation pause to honor the memory of our departed members.  “Gone but never forgotten”
URL:https://ourayelks.org/event/december-7-2025-elks-memorial-day/
LOCATION:Ouray Elks Lodge #492\, 421 Main Street\, Ouray\, CO\, 81427\, United States
END:VEVENT
BEGIN:VEVENT
DTSTART;TZID=America/Denver:20251208T000000
DTEND;TZID=America/Denver:20251210T235959
DTSTAMP:20260424T050024
CREATED:20251003T021621Z
LAST-MODIFIED:20251129T185507Z
UID:292-1765152000-1765411199@ourayelks.org
SUMMARY:Bowling playoffs - TBD
DESCRIPTION:Dec 8 – Team 5 v 7 \nDec 9 – Team 2 v 4 \nDec 10 – Team 1 v 3
URL:https://ourayelks.org/event/bowling-playoffs-tbd-2/
CATEGORIES:Bowling
END:VEVENT
BEGIN:VEVENT
DTSTART;TZID=America/Denver:20251209T100000
DTEND;TZID=America/Denver:20251209T120000
DTSTAMP:20260424T050024
CREATED:20251129T184047Z
LAST-MODIFIED:20251129T184047Z
UID:359-1765274400-1765281600@ourayelks.org
SUMMARY:Veterans Coffee - Welcome Home Alliance for Veterans
DESCRIPTION:Welcome Home Alliance for Veterans \nRidgway Coffee and Pastries \n2nd Tuesday of every month 10:00 am – 12:00 pm \nSherbino Theater 604 Clinton St.\, Ridgway\, CO 81432 \nOnly Veterans. If you haven’t registered for your veteran ID tag\, please bring your DD214 or a military ID. No family\, no friends\, no soliciting\, no agendas\, this is for veterans only.
URL:https://ourayelks.org/event/veterans-coffee-welcome-home-alliance-for-veterans/
LOCATION:Sherbino Theater\, 604 Clinton St\, Ridgway\, CO\, 81432\, United States
CATEGORIES:Veterans
END:VEVENT
BEGIN:VEVENT
DTSTART;TZID=America/Denver:20251211T183000
DTEND;TZID=America/Denver:20251211T200000
DTSTAMP:20260424T050024
CREATED:20251129T185849Z
LAST-MODIFIED:20251129T232437Z
UID:370-1765477800-1765483200@ourayelks.org
SUMMARY:Lodge Meeting
DESCRIPTION:
URL:https://ourayelks.org/event/lodge-meeting/
CATEGORIES:Elks Lodge Meeting
END:VEVENT
BEGIN:VEVENT
DTSTART;TZID=America/Denver:20251212T170000
DTEND;TZID=America/Denver:20251212T193000
DTSTAMP:20260424T050024
CREATED:20251129T184344Z
LAST-MODIFIED:20251129T184344Z
UID:363-1765558800-1765567800@ourayelks.org
SUMMARY:Friday Night Dinner
DESCRIPTION:5:00 Cocktails \n6:00 Dinner
URL:https://ourayelks.org/event/friday-night-dinner-4/
LOCATION:Ouray Elks Lodge #492\, 421 Main Street\, Ouray\, CO\, 81427\, United States
CATEGORIES:Friday Night Dinner
END:VEVENT
BEGIN:VEVENT
DTSTART;TZID=America/Denver:20251213T120000
DTEND;TZID=America/Denver:20251213T150000
DTSTAMP:20260424T050024
CREATED:20251129T183436Z
LAST-MODIFIED:20251129T183436Z
UID:353-1765627200-1765638000@ourayelks.org
SUMMARY:December 13\, 2025 - Gingerbread House Contest
DESCRIPTION:$10 Entrance Fee \nGingerbread houses\, pizza and fancy hot cocoa will be provided. \nContest categories: \nAges 5-8 \nAges 9-11 \nAges 12 and up
URL:https://ourayelks.org/event/december-13-2025-gingerbread-house-contest/
LOCATION:Ouray Elks Lodge #492\, 421 Main Street\, Ouray\, CO\, 81427\, United States
CATEGORIES:Holiday
END:VEVENT
BEGIN:VEVENT
DTSTART;TZID=America/Denver:20251213T190000
DTEND;TZID=America/Denver:20251213T210000
DTSTAMP:20260424T050024
CREATED:20251129T183658Z
LAST-MODIFIED:20251129T183658Z
UID:355-1765652400-1765659600@ourayelks.org
SUMMARY:Christmas Bingo & Baked Goods Silent Auction
DESCRIPTION:Bingo starts at 7:00pm \nDessert Silent Auction is 7:00 to 9:00pm.  Proceeds benefit Laradon Hall.
URL:https://ourayelks.org/event/christmas-bingo-baked-goods-silent-auction/
LOCATION:Ouray Elks Lodge #492\, 421 Main Street\, Ouray\, CO\, 81427\, United States
CATEGORIES:Holiday
END:VEVENT
BEGIN:VEVENT
DTSTART;TZID=America/Denver:20251215T000000
DTEND;TZID=America/Denver:20251217T235959
DTSTAMP:20260424T050024
CREATED:20251003T021718Z
LAST-MODIFIED:20251129T185601Z
UID:294-1765756800-1766015999@ourayelks.org
SUMMARY:Bowling playoffs - TBD
DESCRIPTION:Dec 15 – Team 1 v 2 \nDec 16 – Team 3 v 4 \nDec 17 – Team 5 v 6 \n 
URL:https://ourayelks.org/event/bowling-playoffs-tbd-3/
CATEGORIES:Bowling
END:VEVENT
BEGIN:VEVENT
DTSTART;TZID=America/Denver:20251219T170000
DTEND;TZID=America/Denver:20251219T193000
DTSTAMP:20260424T050024
CREATED:20251129T184436Z
LAST-MODIFIED:20251129T184436Z
UID:365-1766163600-1766172600@ourayelks.org
SUMMARY:Friday Night Dinner
DESCRIPTION:5:00 Cocktails \n6:00 Dinner
URL:https://ourayelks.org/event/friday-night-dinner-5/
CATEGORIES:Friday Night Dinner
END:VEVENT
BEGIN:VEVENT
DTSTART;TZID=America/Denver:20251220T180000
DTEND;TZID=America/Denver:20251220T210000
DTSTAMP:20260424T050024
CREATED:20251129T183826Z
LAST-MODIFIED:20251129T183826Z
UID:357-1766253600-1766264400@ourayelks.org
SUMMARY:Christmas Karaoke December 20
DESCRIPTION:6:00pm – Cocktails \n7:00pm – Karaoke
URL:https://ourayelks.org/event/christmas-karaoke-december-20/
LOCATION:Ouray Elks Lodge #492\, 421 Main Street\, Ouray\, CO\, 81427\, United States
END:VEVENT
BEGIN:VEVENT
DTSTART;TZID=America/Denver:20251224T000000
DTEND;TZID=America/Denver:20251224T235959
DTSTAMP:20260424T050024
CREATED:20251103T211630Z
LAST-MODIFIED:20251103T211630Z
UID:323-1766534400-1766620799@ourayelks.org
SUMMARY:Santa Delivers
DESCRIPTION:← Back Thank you for your response. ✨\n\n\n					\n						\n							\n							\n						\n						\n						\n						\n						\n							\n								\n									\n										\n										\n									\n									\n										\n										\n									\n								\n							\n						\n						\n							\n								\n									\n									\n										\n									\n									\n									\n								\n							\n						\n					\n				\n\n\n\nName(required)\n\n \n			\n				\n					\n						\n						\n						\n					\n				\n				\n			 \n	\n\n\nEmail(required)\n\n \n			\n				\n					\n						\n						\n						\n					\n				\n				\n			 \n	\n\n\nWebsite\n\n \n			\n				\n					\n						\n						\n						\n					\n				\n				\n			 \n	\n\n\nMessage\n\n \n			\n				\n					\n						\n						\n						\n					\n				\n				\n			\n	\n	\n\n				\n					\n				\n						Submit		\n		\n		\n	 \nΔ\n \n\n\n← Back Thank you for your response. ✨\n\n\n					\n						\n							\n							\n						\n						\n						\n						\n						\n							\n								\n									\n										\n										\n									\n									\n										\n										\n									\n								\n							\n						\n						\n							\n								\n									\n									\n										\n									\n									\n									\n								\n							\n						\n					\n				\n\n\n\nName(required)\n\n \n			\n				\n					\n						\n						\n						\n					\n				\n				\n			 \n	\n\n\nEmail(required)\n\n \n			\n				\n					\n						\n						\n						\n					\n				\n				\n			 \n	\n\n\nWebsite\n\n \n			\n				\n					\n						\n						\n						\n					\n				\n				\n			 \n	\n\n\nMessage\n\n \n			\n				\n					\n						\n						\n						\n					\n				\n				\n			\n	\n	\n\n				\n					\n				\n						Submit		\n		\n		\n	 \nΔ
URL:https://ourayelks.org/event/santa-delivers/
CATEGORIES:Holiday
END:VEVENT
END:VCALENDAR